Workbook

Sheet Entrate_Uscite
B1: 2016 | E1: 2017 | H1: 2018 | K1: 2019 | N1: 2020 | Q1: 2021 | T1: 2022 | W1: 2023 | Z1: Var. %
B2: Acc | C2: Risc | D2: %Risc | E2: Acc | F2: Risc | G2: %Risc | H2: Acc | I2: Risc | J2: %Risc | K2: Acc | L2: Risc | M2: %Risc | N2: Acc | O2: Risc | P2: %Risc | Q2: Acc | R2: Risc | S2: %Risc | T2: Acc | U2: Risc | V2: %Risc | W2: Acc | X2: Risc | Y2: %Risc | Z2: Acc | AA2: Risc
A3: 100 Entrate correnti di natura tributaria, contributiva e perequativa | B3: 7.1737422e+08 | C3: 6.1471069e+08 | D3: =IF(B3>0,C3/B3*100,"-") -> 85.688984 | E3: 7.0151647e+08 | F3: 6.0148762e+08 | G3: =IF(E3>0,F3/E3*100,"-") -> 85.741054 | H3: 7.0318082e+08 | I3: 5.9058319e+08 | J3: =IF(H3>0,I3/H3*100,"-") -> 83.987385 | K3: 7.3690311e+08 | L3: 6.026239e+08 | M3: =IF(K3>0,L3/K3*100,"-") -> 81.777903 | N3: 7.1996259e+08 | O3: 5.9423643e+08 | P3: =IF(N3>0,O3/N3*100,"-") -> 82.537125 | Q3: 7.507473e+08 | R3: 6.0732454e+08 | S3: =IF(Q3>0,R3/Q3*100,"-") -> 80.896 | T3: 7.8217093e+08 | U3: 6.1188358e+08 | V3: =IF(T3>0,U3/T3*100,"-") -> 78.228883 | W3: 7.8315269e+08 | X3: 6.1940091e+08 | Y3: =IF(W3>0,X3/W3*100,"-") -> 79.090696 | Z3: =IF(T3>0,W3/T3*100-100,"-") -> 0.12551776 | AA3: =IF(U3>0,X3/U3*100-100,"-") -> 1.2285564
A4: 200 Trasferimenti correnti | B4: 3.1885034e+08 | C4: 2.575733e+08 | D4: =IF(B4>0,C4/B4*100,"-") -> 80.78188 | E4: 2.048878e+08 | F4: 1.5815498e+08 | G4: =IF(E4>0,F4/E4*100,"-") -> 77.191021 | H4: 1.9124961e+08 | I4: 1.6812746e+08 | J4: =IF(H4>0,I4/H4*100,"-") -> 87.909961 | K4: 1.8260006e+08 | L4: 88893143 | M4: =IF(K4>0,L4/K4*100,"-") -> 48.68188 | N4: 2.4225357e+08 | O4: 2.321189e+08 | P4: =IF(N4>0,O4/N4*100,"-") -> 95.816501 | Q4: 2.013275e+08 | R4: 1.8986847e+08 | S4: =IF(Q4>0,R4/Q4*100,"-") -> 94.308262 | T4: 2.4996986e+08 | U4: 1.8859691e+08 | V4: =IF(T4>0,U4/T4*100,"-") -> 75.447859 | W4: 2.8580497e+08 | X4: 2.5087641e+08 | Y4: =IF(W4>0,X4/W4*100,"-") -> 87.778883 | Z4: =IF(T4>0,W4/T4*100-100,"-") -> 14.33577 | AA4: =IF(U4>0,X4/U4*100-100,"-") -> 33.022545
A5: 300 Entrate extratributarie | B5: 11784935 | C5: 6760876.7 | D5: =IF(B5>0,C5/B5*100,"-") -> 57.368809 | E5: 6090810 | F5: 5465537.7 | G5: =IF(E5>0,F5/E5*100,"-") -> 89.734168 | H5: 18037129 | I5: 5224066.6 | J5: =IF(H5>0,I5/H5*100,"-") -> 28.96285 | K5: 10871562 | L5: 3283421 | M5: =IF(K5>0,L5/K5*100,"-") -> 30.201925 | N5: 4940550.8 | O5: 4886247.3 | P5: =IF(N5>0,O5/N5*100,"-") -> 98.900861 | Q5: 13035862 | R5: 12884491 | S5: =IF(Q5>0,R5/Q5*100,"-") -> 98.83881 | T5: 7067058.2 | U5: 3966918.6 | V5: =IF(T5>0,U5/T5*100,"-") -> 56.13253 | W5: 8886751.1 | X5: 8721694.6 | Y5: =IF(W5>0,X5/W5*100,"-") -> 98.142667 | Z5: =IF(T5>0,W5/T5*100-100,"-") -> 25.748946 | AA5: =IF(U5>0,X5/U5*100-100,"-") -> 119.86069
A6: 401 Tributi in conto capitale | B6: 0 | C6: 0 | D6: =IF(B6>0,C6/B6*100,"-") -> - | E6: 102700.33 | F6: 102700.33 | G6: =IF(E6>0,F6/E6*100,"-") -> 100 | H6: 142223.59 | I6: 142223.59 | J6: =IF(H6>0,I6/H6*100,"-") -> 100 | K6: 152602.48 | L6: 152602.48 | M6: =IF(K6>0,L6/K6*100,"-") -> 100 | N6: 105049.01 | O6: 105049.01 | P6: =IF(N6>0,O6/N6*100,"-") -> 100 | Q6: 113594.55 | R6: 113594.55 | S6: =IF(Q6>0,R6/Q6*100,"-") -> 100 | T6: 230221.09 | U6: 230221.09 | V6: =IF(T6>0,U6/T6*100,"-") -> 100 | W6: 139636.19 | X6: 116092.68 | Y6: =IF(W6>0,X6/W6*100,"-") -> 83.139392 | Z6: =IF(T6>0,W6/T6*100-100,"-") -> -39.346916 | AA6: =IF(U6>0,X6/U6*100-100,"-") -> -49.573395
A7: 402 Contributi agli investimenti | B7: 59498858 | C7: 58306411 | D7: =IF(B7>0,C7/B7*100,"-") -> 97.995849 | E7: 1.3524434e+08 | F7: 80023014 | G7: =IF(E7>0,F7/E7*100,"-") -> 59.169217 | H7: 1.4499943e+08 | I7: 41311534 | J7: =IF(H7>0,I7/H7*100,"-") -> 28.490824 | K7: 1.0809556e+08 | L7: 63172509 | M7: =IF(K7>0,L7/K7*100,"-") -> 58.441353 | N7: 95449092 | O7: 49751233 | P7: =IF(N7>0,O7/N7*100,"-") -> 52.123317 | Q7: 1.5821295e+08 | R7: 28725597 | S7: =IF(Q7>0,R7/Q7*100,"-") -> 18.156287 | T7: 1.4689231e+08 | U7: 50514381 | V7: =IF(T7>0,U7/T7*100,"-") -> 34.388717 | W7: 1.4123685e+08 | X7: 20150574 | Y7: =IF(W7>0,X7/W7*100,"-") -> 14.267221 | Z7: =IF(T7>0,W7/T7*100-100,"-") -> -3.850069 | AA7: =IF(U7>0,X7/U7*100-100,"-") -> -60.109234
A8: 403 Altri trasferimenti in conto capitale | B8: 383609.36 | C8: 383609.36 | D8: =IF(B8>0,C8/B8*100,"-") -> 100 | E8: 303400 | F8: 303400 | G8: =IF(E8>0,F8/E8*100,"-") -> 100 | H8: 608652.23 | I8: 608652.23 | J8: =IF(H8>0,I8/H8*100,"-") -> 100 | K8: 0 | L8: 0 | M8: =IF(K8>0,L8/K8*100,"-") -> - | N8: 398069.11 | O8: 398069.11 | P8: =IF(N8>0,O8/N8*100,"-") -> 100 | Q8: 2175818.2 | R8: 2175818.2 | S8: =IF(Q8>0,R8/Q8*100,"-") -> 100 | T8: 52151083 | U8: 199605.26 | V8: =IF(T8>0,U8/T8*100,"-") -> 0.38274423 | W8: 10798940 | X8: 42124.19 | Y8: =IF(W8>0,X8/W8*100,"-") -> 0.39007709 | Z8: =IF(T8>0,W8/T8*100-100,"-") -> -79.292971 | AA8: =IF(U8>0,X8/U8*100-100,"-") -> -78.896253
A9: 404 Entrate da alienazione di beni materiali e immateriali | B9: 37122.48 | C9: 37122.48 | D9: =IF(B9>0,C9/B9*100,"-") -> 100 | E9: 20360.4 | F9: 20360.4 | G9: =IF(E9>0,F9/E9*100,"-") -> 100 | H9: 79354.7 | I9: 79354.7 | J9: =IF(H9>0,I9/H9*100,"-") -> 100 | K9: 0 | L9: 0 | M9: =IF(K9>0,L9/K9*100,"-") -> - | N9: 124330 | O9: 124330 | P9: =IF(N9>0,O9/N9*100,"-") -> 100 | Q9: 1043110.8 | R9: 1043110.8 | S9: =IF(Q9>0,R9/Q9*100,"-") -> 100 | T9: 28930.26 | U9: 28229 | V9: =IF(T9>0,U9/T9*100,"-") -> 97.576033 | W9: 9655.14 | X9: 9655.14 | Y9: =IF(W9>0,X9/W9*100,"-") -> 100 | Z9: =IF(T9>0,W9/T9*100-100,"-") -> -66.626155 | AA9: =IF(U9>0,X9/U9*100-100,"-") -> -65.797088
A10: 405 Altre entrate in conto capitale | B10: 0 | C10: 0 | D10: =IF(B10>0,C10/B10*100,"-") -> - | E10: 260195.92 | F10: 260195.92 | G10: =IF(E10>0,F10/E10*100,"-") -> 100 | H10: 477683.48 | I10: 360659.78 | J10: =IF(H10>0,I10/H10*100,"-") -> 75.501832 | K10: 365994.17 | L10: 209881.66 | M10: =IF(K10>0,L10/K10*100,"-") -> 57.345629 | N10: 9706262.7 | O10: 8266975 | P10: =IF(N10>0,O10/N10*100,"-") -> 85.171557 | Q10: 3263326.6 | R10: 3263326.6 | S10: =IF(Q10>0,R10/Q10*100,"-") -> 100 | T10: 1715926.6 | U10: 1607654.1 | V10: =IF(T10>0,U10/T10*100,"-") -> 93.690147 | W10: 1918810.8 | X10: 1887332.3 | Y10: =IF(W10>0,X10/W10*100,"-") -> 98.359482 | Z10: =IF(T10>0,W10/T10*100-100,"-") -> 11.823593 | AA10: =IF(U10>0,X10/U10*100-100,"-") -> 17.396664
A11: 501 Alienazione di attività finanziarie | B11: 0 | C11: 0 | D11: =IF(B11>0,C11/B11*100,"-") -> - | E11: 0 | F11: 0 | G11: =IF(E11>0,F11/E11*100,"-") -> - | H11: 0 | I11: 0 | J11: =IF(H11>0,I11/H11*100,"-") -> - | K11: 0 | L11: 0 | M11: =IF(K11>0,L11/K11*100,"-") -> - | N11: 0 | O11: 0 | P11: =IF(N11>0,O11/N11*100,"-") -> - | Q11: 0 | R11: 0 | S11: =IF(Q11>0,R11/Q11*100,"-") -> - | T11: 0 | U11: 0 | V11: =IF(T11>0,U11/T11*100,"-") -> - | W11: 0 | X11: 0 | Y11: =IF(W11>0,X11/W11*100,"-") -> - | Z11: =IF(T11>0,W11/T11*100-100,"-") -> - | AA11: =IF(U11>0,X11/U11*100-100,"-") -> -
A12: 502_3 Riscossione di crediti | B12: 0 | C12: 0 | D12: =IF(B12>0,C12/B12*100,"-") -> - | E12: 0 | F12: 0 | G12: =IF(E12>0,F12/E12*100,"-") -> - | H12: 0 | I12: 0 | J12: =IF(H12>0,I12/H12*100,"-") -> - | K12: 0 | L12: 0 | M12: =IF(K12>0,L12/K12*100,"-") -> - | N12: 0 | O12: 0 | P12: =IF(N12>0,O12/N12*100,"-") -> - | Q12: 0 | R12: 0 | S12: =IF(Q12>0,R12/Q12*100,"-") -> - | T12: 0 | U12: 0 | V12: =IF(T12>0,U12/T12*100,"-") -> - | W12: 0 | X12: 0 | Y12: =IF(W12>0,X12/W12*100,"-") -> - | Z12: =IF(T12>0,W12/T12*100-100,"-") -> - | AA12: =IF(U12>0,X12/U12*100-100,"-") -> -
A13: 504 Altre entrate per riduzione di attività finanziarie | B13: 0 | C13: 0 | D13: =IF(B13>0,C13/B13*100,"-") -> - | E13: 2217141 | F13: 2098389.9 | G13: =IF(E13>0,F13/E13*100,"-") -> 94.643954 | H13: 15711215 | I13: 12181249 | J13: =IF(H13>0,I13/H13*100,"-") -> 77.532191 | K13: 27373141 | L13: 26470034 | M13: =IF(K13>0,L13/K13*100,"-") -> 96.700756 | N13: 12105035 | O13: 11396893 | P13: =IF(N13>0,O13/N13*100,"-") -> 94.15002 | Q13: 17333563 | R13: 16291858 | S13: =IF(Q13>0,R13/Q13*100,"-") -> 93.990242 | T13: 9556095.5 | U13: 2958294.7 | V13: =IF(T13>0,U13/T13*100,"-") -> 30.957149 | W13: 8606039.8 | X13: 6402199.2 | Y13: =IF(W13>0,X13/W13*100,"-") -> 74.391931 | Z13: =IF(T13>0,W13/T13*100-100,"-") -> -9.9418816 | AA13: =IF(U13>0,X13/U13*100-100,"-") -> 116.41519
A14: - Entrate correnti | B14: =SUM(B3:B5) -> 1.0480095e+09 | C14: =SUM(C3:C5) -> 8.7904486e+08 | D14: =IF(B14>0,C14/B14*100,"-") -> 83.877566 | E14: =SUM(E3:E5) -> 9.1249508e+08 | F14: =SUM(F3:F5) -> 7.6510814e+08 | G14: =IF(E14>0,F14/E14*100,"-") -> 83.847919 | H14: =SUM(H3:H5) -> 9.1246756e+08 | I14: =SUM(I3:I5) -> 7.6393471e+08 | J14: =IF(H14>0,I14/H14*100,"-") -> 83.721849 | K14: =SUM(K3:K5) -> 9.3037473e+08 | L14: =SUM(L3:L5) -> 6.9480047e+08 | M14: =IF(K14>0,L14/K14*100,"-") -> 74.679637 | N14: =SUM(N3:N5) -> 9.6715672e+08 | O14: =SUM(O3:O5) -> 8.3124157e+08 | P14: =IF(N14>0,O14/N14*100,"-") -> 85.946937 | Q14: =SUM(Q3:Q5) -> 9.6511067e+08 | R14: =SUM(R3:R5) -> 8.100775e+08 | S14: =IF(Q14>0,R14/Q14*100,"-") -> 83.936229 | T14: =SUM(T3:T5) -> 1.0392078e+09 | U14: =SUM(U3:U5) -> 8.044474e+08 | V14: =IF(T14>0,U14/T14*100,"-") -> 77.409674 | W14: =SUM(W3:W5) -> 1.0778444e+09 | X14: =SUM(X3:X5) -> 8.7899901e+08 | Y14: =IF(W14>0,X14/W14*100,"-") -> 81.551568 | Z14: =IF(T14>0,W14/T14*100-100,"-") -> 3.7178858 | AA14: =IF(U14>0,X14/U14*100-100,"-") -> 9.2674312
A15: - Entrate in conto capitale | B15: =SUM(B6:B10) -> 59919590 | C15: =SUM(C6:C10) -> 58727143 | D15: =IF(B15>0,C15/B15*100,"-") -> 98.009921 | E15: =SUM(E6:E10) -> 1.3593099e+08 | F15: =SUM(F6:F10) -> 80709670 | G15: =IF(E15>0,F15/E15*100,"-") -> 59.375474 | H15: =SUM(H6:H10) -> 1.4630735e+08 | I15: =SUM(I6:I10) -> 42502424 | J15: =IF(H15>0,I15/H15*100,"-") -> 29.050095 | K15: =SUM(K6:K10) -> 1.0861416e+08 | L15: =SUM(L6:L10) -> 63534993 | M15: =IF(K15>0,L15/K15*100,"-") -> 58.49605 | N15: =SUM(N6:N10) -> 1.057828e+08 | O15: =SUM(O6:O10) -> 58645656 | P15: =IF(N15>0,O15/N15*100,"-") -> 55.439689 | Q15: =SUM(Q6:Q10) -> 1.648088e+08 | R15: =SUM(R6:R10) -> 35321447 | S15: =IF(Q15>0,R15/Q15*100,"-") -> 21.431773 | T15: =SUM(T6:T10) -> 2.0101847e+08 | U15: =SUM(U6:U10) -> 52580091 | V15: =IF(T15>0,U15/T15*100,"-") -> 26.156845 | W15: =SUM(W6:W10) -> 1.541039e+08 | X15: =SUM(X6:X10) -> 22205778 | Y15: =IF(W15>0,X15/W15*100,"-") -> 14.409615 | Z15: =IF(T15>0,W15/T15*100-100,"-") -> -23.33844 | AA15: =IF(U15>0,X15/U15*100-100,"-") -> -57.767707
A16: - Entrate da riduzione attività finanziarie | B16: =SUM(B11:B13) -> 0 | C16: =SUM(C11:C13) -> 0 | D16: =IF(B16>0,C16/B16*100,"-") -> - | E16: =SUM(E11:E13) -> 2217141 | F16: =SUM(F11:F13) -> 2098389.9 | G16: =IF(E16>0,F16/E16*100,"-") -> 94.643954 | H16: =SUM(H11:H13) -> 15711215 | I16: =SUM(I11:I13) -> 12181249 | J16: =IF(H16>0,I16/H16*100,"-") -> 77.532191 | K16: =SUM(K11:K13) -> 27373141 | L16: =SUM(L11:L13) -> 26470034 | M16: =IF(K16>0,L16/K16*100,"-") -> 96.700756 | N16: =SUM(N11:N13) -> 12105035 | O16: =SUM(O11:O13) -> 11396893 | P16: =IF(N16>0,O16/N16*100,"-") -> 94.15002 | Q16: =SUM(Q11:Q13) -> 17333563 | R16: =SUM(R11:R13) -> 16291858 | S16: =IF(Q16>0,R16/Q16*100,"-") -> 93.990242 | T16: =SUM(T11:T13) -> 9556095.5 | U16: =SUM(U11:U13) -> 2958294.7 | V16: =IF(T16>0,U16/T16*100,"-") -> 30.957149 | W16: =SUM(W11:W13) -> 8606039.8 | X16: =SUM(X11:X13) -> 6402199.2 | Y16: =IF(W16>0,X16/W16*100,"-") -> 74.391931 | Z16: =IF(T16>0,W16/T16*100-100,"-") -> -9.9418816 | AA16: =IF(U16>0,X16/U16*100-100,"-") -> 116.41519
A17: - Accensione di prestiti | B17: 254346000 | C17: 254346000 | D17: =IF(B17>0,C17/B17*100,"-") -> 100 | E17: 0 | F17: 0 | G17: =IF(E17>0,F17/E17*100,"-") -> - | H17: 0 | I17: 0 | J17: =IF(H17>0,I17/H17*100,"-") -> - | K17: 201345.96 | L17: 201345.96 | M17: =IF(K17>0,L17/K17*100,"-") -> 100 | N17: 999258.91 | O17: 999258.91 | P17: =IF(N17>0,O17/N17*100,"-") -> 100 | Q17: 73710323 | R17: 73710323 | S17: =IF(Q17>0,R17/Q17*100,"-") -> 100 | T17: 0 | U17: 0 | V17: =IF(T17>0,U17/T17*100,"-") -> - | W17: 0 | X17: 0 | Y17: =IF(W17>0,X17/W17*100,"-") -> - | Z17: =IF(T17>0,W17/T17*100-100,"-") -> - | AA17: =IF(U17>0,X17/U17*100-100,"-") -> -
A18: - Anticipazioni da istituto tesoriere/cassiere | B18: 0 | C18: 0 | D18: =IF(B18>0,C18/B18*100,"-") -> - | E18: 0 | F18: 0 | G18: =IF(E18>0,F18/E18*100,"-") -> - | H18: 0 | I18: 0 | J18: =IF(H18>0,I18/H18*100,"-") -> - | K18: 0 | L18: 0 | M18: =IF(K18>0,L18/K18*100,"-") -> - | N18: 0 | O18: 0 | P18: =IF(N18>0,O18/N18*100,"-") -> - | Q18: 0 | R18: 0 | S18: =IF(Q18>0,R18/Q18*100,"-") -> - | T18: 0 | U18: 0 | V18: =IF(T18>0,U18/T18*100,"-") -> - | W18: 0 | X18: 0 | Y18: =IF(W18>0,X18/W18*100,"-") -> - | Z18: =IF(T18>0,W18/T18*100-100,"-") -> - | AA18: =IF(U18>0,X18/U18*100-100,"-") -> -
A19: - Entrate per conto terzi e partite di giro | B19: 2.0302555e+08 | C19: 2.0201755e+08 | D19: =IF(B19>0,C19/B19*100,"-") -> 99.503514 | E19: 1.1984478e+08 | F19: 1.098714e+08 | G19: =IF(E19>0,F19/E19*100,"-") -> 91.678087 | H19: 1.576634e+08 | I19: 1.5319062e+08 | J19: =IF(H19>0,I19/H19*100,"-") -> 97.163079 | K19: 1.1803529e+08 | L19: 1.1778192e+08 | M19: =IF(K19>0,L19/K19*100,"-") -> 99.785346 | N19: 1.7124172e+08 | O19: 1.6254447e+08 | P19: =IF(N19>0,O19/N19*100,"-") -> 94.92107 | Q19: 1.1486941e+08 | R19: 1.1417792e+08 | S19: =IF(Q19>0,R19/Q19*100,"-") -> 99.39802 | T19: 1.2794324e+08 | U19: 1.2773472e+08 | V19: =IF(T19>0,U19/T19*100,"-") -> 99.837026 | W19: 1.8177296e+08 | X19: 1.8125807e+08 | Y19: =IF(W19>0,X19/W19*100,"-") -> 99.71674 | Z19: =IF(T19>0,W19/T19*100-100,"-") -> 42.07313 | AA19: =IF(U19>0,X19/U19*100-100,"-") -> 41.901955
A20: Totale Entrate | B20: =B14+B15+B16+B17+B18+B19 -> 1.5653006e+09 | C20: =C14+C15+C16+C17+C18+C19 -> 1.3941356e+09 | D20: =IF(B20>0,C20/B20*100,"-") -> 89.065035 | E20: =E14+E15+E16+E17+E18+E19 -> 1.170488e+09 | F20: =F14+F15+F16+F17+F18+F19 -> 9.577876e+08 | G20: =IF(E20>0,F20/E20*100,"-") -> 81.828058 | H20: =H14+H15+H16+H17+H18+H19 -> 1.2321495e+09 | I20: =I14+I15+I16+I17+I18+I19 -> 9.71809e+08 | J20: =IF(H20>0,I20/H20*100,"-") -> 78.871028 | K20: =K14+K15+K16+K17+K18+K19 -> 1.1845987e+09 | L20: =L14+L15+L16+L17+L18+L19 -> 9.0278876e+08 | M20: =IF(K20>0,L20/K20*100,"-") -> 76.210517 | N20: =N14+N15+N16+N17+N18+N19 -> 1.2572855e+09 | O20: =O14+O15+O16+O17+O18+O19 -> 1.0648279e+09 | P20: =IF(N20>0,O20/N20*100,"-") -> 84.692604 | Q20: =Q14+Q15+Q16+Q17+Q18+Q19 -> 1.3358328e+09 | R20: =R14+R15+R16+R17+R18+R19 -> 1.049579e+09 | S20: =IF(Q20>0,R20/Q20*100,"-") -> 78.571141 | T20: =T14+T15+T16+T17+T18+T19 -> 1.3777257e+09 | U20: =U14+U15+U16+U17+U18+U19 -> 9.8772051e+08 | V20: =IF(T20>0,U20/T20*100,"-") -> 71.692104 | W20: =W14+W15+W16+W17+W18+W19 -> 1.4223273e+09 | X20: =X14+X15+X16+X17+X18+X19 -> 1.0888651e+09 | Y20: =IF(W20>0,X20/W20*100,"-") -> 76.555168 | Z20: =IF(T20>0,W20/T20*100-100,"-") -> 3.2373394 | AA20: =IF(U20>0,X20/U20*100-100,"-") -> 10.240199
A21: Entrate nette | B21: =B20-B19 -> 1.3622751e+09 | C21: =C20-C19 -> 1.192118e+09 | D21: =IF(B21>0,C21/B21*100,"-") -> 87.509345 | E21: =E20-E19 -> 1.0506432e+09 | F21: =F20-F19 -> 8.479162e+08 | G21: =IF(E21>0,F21/E21*100,"-") -> 80.704485 | H21: =H20-H19 -> 1.0744861e+09 | I21: =I20-I19 -> 8.1861839e+08 | J21: =IF(H21>0,I21/H21*100,"-") -> 76.186967 | K21: =K20-K19 -> 1.0665634e+09 | L21: =L20-L19 -> 7.8500684e+08 | M21: =IF(K21>0,L21/K21*100,"-") -> 73.601519 | N21: =N20-N19 -> 1.0860438e+09 | O21: =O20-O19 -> 9.0228338e+08 | P21: =IF(N21>0,O21/N21*100,"-") -> 83.079832 | Q21: =Q20-Q19 -> 1.2209634e+09 | R21: =R20-R19 -> 9.3540113e+08 | S21: =IF(Q21>0,R21/Q21*100,"-") -> 76.611729 | T21: =T20-T19 -> 1.2497824e+09 | U21: =U20-U19 -> 8.5998579e+08 | V21: =IF(T21>0,U21/T21*100,"-") -> 68.810841 | W21: =W20-W19 -> 1.2405543e+09 | X21: =X20-X19 -> 9.0760699e+08 | Y21: =IF(W21>0,X21/W21*100,"-") -> 73.161405 | Z21: =IF(T21>0,W21/T21*100-100,"-") -> -0.7383741 | AA21: =IF(U21>0,X21/U21*100-100,"-") -> 5.5374406
B22: Imp | C22: Pag | E22: Imp | F22: Pag | H22: Imp | I22: Pag | K22: Imp | L22: Pag | N22: Imp | O22: Pag | Q22: Imp | R22: Pag | T22: Imp | U22: Pag | W22: Imp | X22: Pag
A23: 101 REDDITI DA LAVORO DIPENDENTE | B23: 37698418 | C23: 35162615 | D23: =IF(B23>0,C23/B23*100,"-") -> 93.273451 | E23: 34451236 | F23: 32042470 | G23: =IF(E23>0,F23/E23*100,"-") -> 93.008188 | H23: 32501170 | I23: 30408675 | J23: =IF(H23>0,I23/H23*100,"-") -> 93.561786 | K23: 33655615 | L23: 33410435 | M23: =IF(K23>0,L23/K23*100,"-") -> 99.271503 | N23: 31024702 | O23: 28078604 | P23: =IF(N23>0,O23/N23*100,"-") -> 90.504025 | Q23: 28483977 | R23: 27304118 | S23: =IF(Q23>0,R23/Q23*100,"-") -> 95.857817 | T23: 26595503 | U23: 25034315 | V23: =IF(T23>0,U23/T23*100,"-") -> 94.12988 | W23: 22378197 | X23: 21726837 | Y23: =IF(W23>0,X23/W23*100,"-") -> 97.089311 | Z23: =IF(T23>0,W23/T23*100-100,"-") -> -15.857216 | AA23: =IF(U23>0,X23/U23*100-100,"-") -> -13.211778
A24: 102 IMPOSTE E TASSE A CARICO DELL'ENTE | B24: 1046665.8 | C24: 613652.31 | D24: =IF(B24>0,C24/B24*100,"-") -> 58.629251 | E24: 1124039.4 | F24: 909437.72 | G24: =IF(E24>0,F24/E24*100,"-") -> 80.907994 | H24: 2975787.9 | I24: 2444469.1 | J24: =IF(H24>0,I24/H24*100,"-") -> 82.145273 | K24: 2848263.8 | L24: 2740455.1 | M24: =IF(K24>0,L24/K24*100,"-") -> 96.214934 | N24: 2835183 | O24: 2292221.3 | P24: =IF(N24>0,O24/N24*100,"-") -> 80.849148 | Q24: 2299687.8 | R24: 1833824.1 | S24: =IF(Q24>0,R24/Q24*100,"-") -> 79.742309 | T24: 2205436.2 | U24: 2072949.5 | V24: =IF(T24>0,U24/T24*100,"-") -> 93.992722 | W24: 2038180.3 | X24: 1964640.3 | Y24: =IF(W24>0,X24/W24*100,"-") -> 96.391881 | Z24: =IF(T24>0,W24/T24*100-100,"-") -> -7.5838005 | AA24: =IF(U24>0,X24/U24*100-100,"-") -> -5.2248823
A25: 103 ACQUISTO DI BENI E SERVIZI | B25: 3.9324143e+08 | C25: 2.9329499e+08 | D25: =IF(B25>0,C25/B25*100,"-") -> 74.58395 | E25: 1.657952e+08 | F25: 1.5456655e+08 | G25: =IF(E25>0,F25/E25*100,"-") -> 93.2274 | H25: 1.7935224e+08 | I25: 1.712708e+08 | J25: =IF(H25>0,I25/H25*100,"-") -> 95.494094 | K25: 1.7400669e+08 | L25: 85762788 | M25: =IF(K25>0,L25/K25*100,"-") -> 49.287063 | N25: 1.7813224e+08 | O25: 1.6220016e+08 | P25: =IF(N25>0,O25/N25*100,"-") -> 91.056041 | Q25: 1.5921862e+08 | R25: 1.2263528e+08 | S25: =IF(Q25>0,R25/Q25*100,"-") -> 77.023203 | T25: 1.8643119e+08 | U25: 1.1030892e+08 | V25: =IF(T25>0,U25/T25*100,"-") -> 59.168705 | W25: 2.076663e+08 | X25: 1.5557908e+08 | Y25: =IF(W25>0,X25/W25*100,"-") -> 74.917829 | Z25: =IF(T25>0,W25/T25*100-100,"-") -> 11.390321 | AA25: =IF(U25>0,X25/U25*100-100,"-") -> 41.039442
A26: 104 TRASFERIMENTI CORRENTI | B26: 8.5902319e+08 | C26: 6.2946356e+08 | D26: =IF(B26>0,C26/B26*100,"-") -> 73.276667 | E26: 6.4472039e+08 | F26: 5.5226761e+08 | G26: =IF(E26>0,F26/E26*100,"-") -> 85.660019 | H26: 6.16377e+08 | I26: 5.5960875e+08 | J26: =IF(H26>0,I26/H26*100,"-") -> 90.790011 | K26: 6.417937e+08 | L26: 5.5509898e+08 | M26: =IF(K26>0,L26/K26*100,"-") -> 86.491809 | N26: 6.8457896e+08 | O26: 5.9518504e+08 | P26: =IF(N26>0,O26/N26*100,"-") -> 86.941766 | Q26: 6.8681296e+08 | R26: 5.8805077e+08 | S26: =IF(Q26>0,R26/Q26*100,"-") -> 85.62022 | T26: 7.2648231e+08 | U26: 5.7724248e+08 | V26: =IF(T26>0,U26/T26*100,"-") -> 79.457197 | W26: 7.0970106e+08 | X26: 5.9024475e+08 | Y26: =IF(W26>0,X26/W26*100,"-") -> 83.168081 | Z26: =IF(T26>0,W26/T26*100-100,"-") -> -2.3099321 | AA26: =IF(U26>0,X26/U26*100-100,"-") -> 2.2524805
A27: 105 TRASFERIMENTI DI TRIBUTI | B27: 0 | C27: 0 | E27: 0 | F27: 0 | H27: 0 | I27: 0 | K27: 0 | L27: 0 | N27: 0 | O27: 0 | Q27: 0 | R27: 0 | T27: 0 | U27: 0 | W27: 0 | X27: 0 | Z27: =IF(T27>0,W27/T27*100-100,"-") -> - | AA27: =IF(U27>0,X27/U27*100-100,"-") -> -
A28: 106 FONDI PEREQUATIVI | B28: 0 | C28: 0 | E28: 0 | F28: 0 | H28: 0 | I28: 0 | K28: 0 | L28: 0 | N28: 0 | O28: 0 | Q28: 0 | R28: 0 | T28: 0 | U28: 0 | W28: 0 | X28: 0 | Z28: =IF(T28>0,W28/T28*100-100,"-") -> - | AA28: =IF(U28>0,X28/U28*100-100,"-") -> -
A29: 107 INTERESSI PASSIVI | B29: 16280128 | C29: 16280128 | D29: =IF(B29>0,C29/B29*100,"-") -> 100 | E29: 15091460 | F29: 15091460 | G29: =IF(E29>0,F29/E29*100,"-") -> 100 | H29: 16088120 | I29: 16088120 | J29: =IF(H29>0,I29/H29*100,"-") -> 100 | K29: 11636669 | L29: 11636669 | M29: =IF(K29>0,L29/K29*100,"-") -> 100 | N29: 14482562 | O29: 14482562 | P29: =IF(N29>0,O29/N29*100,"-") -> 100 | Q29: 13274705 | R29: 13274706 | S29: =IF(Q29>0,R29/Q29*100,"-") -> 100.00001 | T29: 11903778 | U29: 10942897 | V29: =IF(T29>0,U29/T29*100,"-") -> 91.927933 | W29: 13892698 | X29: 13553633 | Y29: =IF(W29>0,X29/W29*100,"-") -> 97.559396 | Z29: =IF(T29>0,W29/T29*100-100,"-") -> 16.708309 | AA29: =IF(U29>0,X29/U29*100-100,"-") -> 23.857807
A30: 108 ALTRE SPESE PER REDDITI DA CAPITALE | B30: 0 | C30: 0 | D30: =IF(B30>0,C30/B30*100,"-") -> - | E30: 0 | F30: 0 | G30: =IF(E30>0,F30/E30*100,"-") -> - | H30: 0 | I30: 0 | J30: =IF(H30>0,I30/H30*100,"-") -> - | K30: 0 | L30: 0 | M30: =IF(K30>0,L30/K30*100,"-") -> - | N30: 0 | O30: 0 | P30: =IF(N30>0,O30/N30*100,"-") -> - | Q30: 0 | R30: 0 | S30: =IF(Q30>0,R30/Q30*100,"-") -> - | T30: 0 | U30: 0 | V30: =IF(T30>0,U30/T30*100,"-") -> - | W30: 0 | X30: 0 | Y30: =IF(W30>0,X30/W30*100,"-") -> - | Z30: =IF(T30>0,W30/T30*100-100,"-") -> - | AA30: =IF(U30>0,X30/U30*100-100,"-") -> -
A31: 109 RIMBORSI E POSTE CORRETTIVE DELLE ENTRATE | B31: 567159.06 | C31: 259902.07 | D31: =IF(B31>0,C31/B31*100,"-") -> 45.825252 | E31: 254584.82 | F31: 187990.95 | G31: =IF(E31>0,F31/E31*100,"-") -> 73.842168 | H31: 266896.41 | I31: 136380.58 | J31: =IF(H31>0,I31/H31*100,"-") -> 51.098694 | K31: 266413.04 | L31: 155752.52 | M31: =IF(K31>0,L31/K31*100,"-") -> 58.462799 | N31: 138014.01 | O31: 72263.1 | P31: =IF(N31>0,O31/N31*100,"-") -> 52.35925 | Q31: 45007.24 | R31: 25763.99 | S31: =IF(Q31>0,R31/Q31*100,"-") -> 57.244101 | T31: 61132.14 | U31: 41110.96 | V31: =IF(T31>0,U31/T31*100,"-") -> 67.249339 | W31: 84674.59 | X31: 77493.62 | Y31: =IF(W31>0,X31/W31*100,"-") -> 91.519333 | Z31: =IF(T31>0,W31/T31*100-100,"-") -> 38.510757 | AA31: =IF(U31>0,X31/U31*100-100,"-") -> 88.498687
A32: 110 ALTRE SPESE CORRENTI | B32: 2615971.2 | C32: 2486337.8 | D32: =IF(B32>0,C32/B32*100,"-") -> 95.044542 | E32: 19672776 | F32: 12643904 | G32: =IF(E32>0,F32/E32*100,"-") -> 64.27107 | H32: 11261556 | I32: 10007146 | J32: =IF(H32>0,I32/H32*100,"-") -> 88.861128 | K32: 16427949 | L32: 10663798 | M32: =IF(K32>0,L32/K32*100,"-") -> 64.912534 | N32: 16730881 | O32: 14613579 | P32: =IF(N32>0,O32/N32*100,"-") -> 87.344947 | Q32: 18956990 | R32: 17958130 | S32: =IF(Q32>0,R32/Q32*100,"-") -> 94.730912 | T32: 21508109 | U32: 14546788 | V32: =IF(T32>0,U32/T32*100,"-") -> 67.63397 | W32: 26815712 | X32: 16573957 | Y32: =IF(W32>0,X32/W32*100,"-") -> 61.806886 | Z32: =IF(T32>0,W32/T32*100-100,"-") -> 24.677221 | AA32: =IF(U32>0,X32/U32*100-100,"-") -> 13.935508
A33: 201 TRIBUTI IN CONTO CAPITALE A CARICO DELL?ENTE | B33: 0 | C33: 0 | D33: =IF(B33>0,C33/B33*100,"-") -> - | E33: 0 | F33: 0 | G33: =IF(E33>0,F33/E33*100,"-") -> - | H33: 0 | I33: 0 | J33: =IF(H33>0,I33/H33*100,"-") -> - | K33: 0 | L33: 0 | M33: =IF(K33>0,L33/K33*100,"-") -> - | N33: 0 | O33: 0 | P33: =IF(N33>0,O33/N33*100,"-") -> - | Q33: 0 | R33: 0 | S33: =IF(Q33>0,R33/Q33*100,"-") -> - | T33: 0 | U33: 0 | V33: =IF(T33>0,U33/T33*100,"-") -> - | W33: 0 | X33: 0 | Y33: =IF(W33>0,X33/W33*100,"-") -> - | Z33: =IF(T33>0,W33/T33*100-100,"-") -> - | AA33: =IF(U33>0,X33/U33*100-100,"-") -> -
A34: 202 INVESTIMENTI FISSI LORDI E ACQUISTO DI TERRENI | B34: 1673391.1 | C34: 0 | D34: =IF(B34>0,C34/B34*100,"-") -> 0 | E34: 271221.66 | F34: 0 | G34: =IF(E34>0,F34/E34*100,"-") -> 0 | H34: 757438.59 | I34: 0 | J34: =IF(H34>0,I34/H34*100,"-") -> 0 | K34: 4669944 | L34: 0 | M34: =IF(K34>0,L34/K34*100,"-") -> 0 | N34: 1642041.1 | O34: 0 | P34: =IF(N34>0,O34/N34*100,"-") -> 0 | Q34: 15597712 | R34: 1346445.3 | S34: =IF(Q34>0,R34/Q34*100,"-") -> 8.632326 | T34: 3723802.1 | U34: 1640827.7 | V34: =IF(T34>0,U34/T34*100,"-") -> 44.063237 | W34: 21605169 | X34: 5851907.7 | Y34: =IF(W34>0,X34/W34*100,"-") -> 27.085684 | Z34: =IF(T34>0,W34/T34*100-100,"-") -> 480.19112 | AA34: =IF(U34>0,X34/U34*100-100,"-") -> 256.64364
A35: 203 CONTRIBUTI AGLI INVESTIMENTI | B35: 1.2804531e+08 | C35: 0 | D35: =IF(B35>0,C35/B35*100,"-") -> 0 | E35: 1.7766518e+08 | F35: 0 | G35: =IF(E35>0,F35/E35*100,"-") -> 0 | H35: 1.7119365e+08 | I35: 0 | J35: =IF(H35>0,I35/H35*100,"-") -> 0 | K35: 1.3501492e+08 | L35: 0 | M35: =IF(K35>0,L35/K35*100,"-") -> 0 | N35: 1.3835742e+08 | O35: 0 | P35: =IF(N35>0,O35/N35*100,"-") -> 0 | Q35: 1.451829e+08 | R35: 53367378 | S35: =IF(Q35>0,R35/Q35*100,"-") -> 36.758723 | T35: 2.0854249e+08 | U35: 47818974 | V35: =IF(T35>0,U35/T35*100,"-") -> 22.930087 | W35: 1.4642852e+08 | X35: 28360405 | Y35: =IF(W35>0,X35/W35*100,"-") -> 19.368089 | Z35: =IF(T35>0,W35/T35*100-100,"-") -> -29.784805 | AA35: =IF(U35>0,X35/U35*100-100,"-") -> -40.692151
A36: 204ALTRI TRASFERIMENTI IN CONTO CAPITALE | B36: 77844.02 | C36: 0 | D36: =IF(B36>0,C36/B36*100,"-") -> 0 | E36: 87961.88 | F36: 0 | G36: =IF(E36>0,F36/E36*100,"-") -> 0 | H36: 1540562.9 | I36: 0 | J36: =IF(H36>0,I36/H36*100,"-") -> 0 | K36: 58102.06 | L36: 0 | M36: =IF(K36>0,L36/K36*100,"-") -> 0 | N36: 2818383.1 | O36: 0 | P36: =IF(N36>0,O36/N36*100,"-") -> 0 | Q36: 5325713.8 | R36: 2873680.6 | S36: =IF(Q36>0,R36/Q36*100,"-") -> 53.9586 | T36: 630211.3 | U36: 0 | V36: =IF(T36>0,U36/T36*100,"-") -> 0 | W36: 2267215.6 | X36: 701148.64 | Y36: =IF(W36>0,X36/W36*100,"-") -> 30.925539 | Z36: =IF(T36>0,W36/T36*100-100,"-") -> 259.75483 | AA36: =IF(U36>0,X36/U36*100-100,"-") -> -
A37: 205ALTRE SPESE IN CONTO CAPITALE | B37: 4874921 | C37: 0 | D37: =IF(B37>0,C37/B37*100,"-") -> 0 | E37: 1601096.6 | F37: 0 | G37: =IF(E37>0,F37/E37*100,"-") -> 0 | H37: 5170214 | I37: 0 | J37: =IF(H37>0,I37/H37*100,"-") -> 0 | K37: 3999.16 | L37: 0 | M37: =IF(K37>0,L37/K37*100,"-") -> 0 | N37: 940699.46 | O37: 0 | P37: =IF(N37>0,O37/N37*100,"-") -> 0 | Q37: 3703188.7 | R37: 1115715.7 | S37: =IF(Q37>0,R37/Q37*100,"-") -> 30.128513 | T37: 452370.45 | U37: 202020.86 | V37: =IF(T37>0,U37/T37*100,"-") -> 44.65828 | W37: 1031698.7 | X37: 50334.79 | Y37: =IF(W37>0,X37/W37*100,"-") -> 4.8788267 | Z37: =IF(T37>0,W37/T37*100-100,"-") -> 128.065 | AA37: =IF(U37>0,X37/U37*100-100,"-") -> -75.08436
A38: 301 ACQUISIZIONI DI ATTIVITA' FINANZIARIE | B38: 0 | C38: 0 | D38: =IF(B38>0,C38/B38*100,"-") -> - | E38: 1967158.2 | F38: 1967158.2 | G38: =IF(E38>0,F38/E38*100,"-") -> 100 | H38: 0 | I38: 0 | J38: =IF(H38>0,I38/H38*100,"-") -> - | K38: 1947750 | M38: =IF(K38>0,L38/K38*100,"-") -> 0 | N38: 0 | O38: 0 | P38: =IF(N38>0,O38/N38*100,"-") -> - | Q38: 0 | R38: 0 | S38: =IF(Q38>0,R38/Q38*100,"-") -> - | T38: 0 | U38: 0 | V38: =IF(T38>0,U38/T38*100,"-") -> - | W38: 0 | X38: 0 | Y38: =IF(W38>0,X38/W38*100,"-") -> - | Z38: =IF(T38>0,W38/T38*100-100,"-") -> - | AA38: =IF(U38>0,X38/U38*100-100,"-") -> -
A39: 302 CONCESSIONE CREDITI DI BREVE TERMINE | B39: 0 | C39: 0 | D39: =IF(B39>0,C39/B39*100,"-") -> - | E39: 0 | F39: 0 | G39: =IF(E39>0,F39/E39*100,"-") -> - | H39: 0 | I39: 0 | J39: =IF(H39>0,I39/H39*100,"-") -> - | K39: 0 | L39: 0 | M39: =IF(K39>0,L39/K39*100,"-") -> - | N39: 0 | O39: 0 | P39: =IF(N39>0,O39/N39*100,"-") -> - | Q39: 0 | R39: 0 | S39: =IF(Q39>0,R39/Q39*100,"-") -> - | T39: 0 | U39: 0 | V39: =IF(T39>0,U39/T39*100,"-") -> - | W39: 0 | X39: 0 | Y39: =IF(W39>0,X39/W39*100,"-") -> - | Z39: =IF(T39>0,W39/T39*100-100,"-") -> - | AA39: =IF(U39>0,X39/U39*100-100,"-") -> -
A40: 303 CONCESSIONE CREDITI DI MEDIO-LUNGO TERMINE | B40: 0 | C40: 0 | D40: =IF(B40>0,C40/B40*100,"-") -> - | E40: 0 | F40: 0 | G40: =IF(E40>0,F40/E40*100,"-") -> - | H40: 0 | I40: 0 | J40: =IF(H40>0,I40/H40*100,"-") -> - | K40: 0 | L40: 0 | M40: =IF(K40>0,L40/K40*100,"-") -> - | N40: 0 | O40: 0 | P40: =IF(N40>0,O40/N40*100,"-") -> - | Q40: 0 | R40: 0 | S40: =IF(Q40>0,R40/Q40*100,"-") -> - | T40: 0 | U40: 0 | V40: =IF(T40>0,U40/T40*100,"-") -> - | W40: 0 | X40: 0 | Y40: =IF(W40>0,X40/W40*100,"-") -> - | Z40: =IF(T40>0,W40/T40*100-100,"-") -> - | AA40: =IF(U40>0,X40/U40*100-100,"-") -> -
...

Sheet Tav_Entrate
B1: 2016 | C1: 2017 | D1: 2018 | E1: 2019 | F1: 2020 | G1: 2021 | H1: 2022 | I1: 2023 | J1: Comp.% netta | K1: Var. % | L1: Riscossioni 2023 | M1: % Risc.
A2: 100 Entrate correnti di natura tributaria, contributiva e perequativa | B2: =Entrate_Uscite!B3 -> 7.1737422e+08 | C2: =Entrate_Uscite!E3 -> 7.0151647e+08 | D2: =Entrate_Uscite!H3 -> 7.0318082e+08 | E2: =Entrate_Uscite!K3 -> 7.3690311e+08 | F2: =Entrate_Uscite!N3 -> 7.1996259e+08 | G2: =Entrate_Uscite!Q3 -> 7.507473e+08 | H2: =Entrate_Uscite!T3 -> 7.8217093e+08 | I2: =Entrate_Uscite!W3 -> 7.8315269e+08 | J2: =I2/I$21*100 -> 63.129253 | K2: =IF(H2>0,I2/H2*100-100,"-") -> 0.12551776 | L2: =Entrate_Uscite!X3 -> 6.1940091e+08 | M2: =IF(I2>0,L2/I2*100,"-") -> 79.090696
A3: 200 Trasferimenti correnti | B3: =Entrate_Uscite!B4 -> 3.1885034e+08 | C3: =Entrate_Uscite!E4 -> 2.048878e+08 | D3: =Entrate_Uscite!H4 -> 1.9124961e+08 | E3: =Entrate_Uscite!K4 -> 1.8260006e+08 | F3: =Entrate_Uscite!N4 -> 2.4225357e+08 | G3: =Entrate_Uscite!Q4 -> 2.013275e+08 | H3: =Entrate_Uscite!T4 -> 2.4996986e+08 | I3: =Entrate_Uscite!W4 -> 2.8580497e+08 | J3: =I3/I$21*100 -> 23.038488 | K3: =IF(H3>0,I3/H3*100-100,"-") -> 14.33577 | L3: =Entrate_Uscite!X4 -> 2.5087641e+08 | M3: =IF(I3>0,L3/I3*100,"-") -> 87.778883
A4: 300 Entrate extratributarie | B4: =Entrate_Uscite!B5 -> 11784935 | C4: =Entrate_Uscite!E5 -> 6090810 | D4: =Entrate_Uscite!H5 -> 18037129 | E4: =Entrate_Uscite!K5 -> 10871562 | F4: =Entrate_Uscite!N5 -> 4940550.8 | G4: =Entrate_Uscite!Q5 -> 13035862 | H4: =Entrate_Uscite!T5 -> 7067058.2 | I4: =Entrate_Uscite!W5 -> 8886751.1 | J4: =I4/I$21*100 -> 0.71635323 | K4: =IF(H4>0,I4/H4*100-100,"-") -> 25.748946 | L4: =Entrate_Uscite!X5 -> 8721694.6 | M4: =IF(I4>0,L4/I4*100,"-") -> 98.142667
A5: - Entrate correnti | B5: =SUM(B2:B4) -> 1.0480095e+09 | C5: =SUM(C2:C4) -> 9.1249508e+08 | D5: =SUM(D2:D4) -> 9.1246756e+08 | E5: =SUM(E2:E4) -> 9.3037473e+08 | F5: =SUM(F2:F4) -> 9.6715672e+08 | G5: =SUM(G2:G4) -> 9.6511067e+08 | H5: =SUM(H2:H4) -> 1.0392078e+09 | I5: =SUM(I2:I4) -> 1.0778444e+09 | J5: =I5/I$21*100 -> 86.884094 | K5: =IF(H5>0,I5/H5*100-100,"-") -> 3.7178858 | L5: =SUM(L2:L4) -> 8.7899901e+08 | M5: =IF(I5>0,L5/I5*100,"-") -> 81.551568
A6: 401 Tributi in conto capitale | B6: =Entrate_Uscite!B6 -> 0 | C6: =Entrate_Uscite!E6 -> 102700.33 | D6: =Entrate_Uscite!H6 -> 142223.59 | E6: =Entrate_Uscite!K6 -> 152602.48 | F6: =Entrate_Uscite!N6 -> 105049.01 | G6: =Entrate_Uscite!Q6 -> 113594.55 | H6: =Entrate_Uscite!T6 -> 230221.09 | I6: =Entrate_Uscite!W6 -> 139636.19 | J6: =I6/I$21*100 -> 0.011255951 | K6: =IF(H6>0,I6/H6*100-100,"-") -> -39.346916 | L6: =Entrate_Uscite!X6 -> 116092.68 | M6: =IF(I6>0,L6/I6*100,"-") -> 83.139392
A7: 402 Contributi agli investimenti | B7: =Entrate_Uscite!B7 -> 59498858 | C7: =Entrate_Uscite!E7 -> 1.3524434e+08 | D7: =Entrate_Uscite!H7 -> 1.4499943e+08 | E7: =Entrate_Uscite!K7 -> 1.0809556e+08 | F7: =Entrate_Uscite!N7 -> 95449092 | G7: =Entrate_Uscite!Q7 -> 1.5821295e+08 | H7: =Entrate_Uscite!T7 -> 1.4689231e+08 | I7: =Entrate_Uscite!W7 -> 1.4123685e+08 | J7: =I7/I$21*100 -> 11.384979 | K7: =IF(H7>0,I7/H7*100-100,"-") -> -3.850069 | L7: =Entrate_Uscite!X7 -> 20150574 | M7: =IF(I7>0,L7/I7*100,"-") -> 14.267221
A8: 403 Altri trasferimenti in conto capitale | B8: =Entrate_Uscite!B8 -> 383609.36 | C8: =Entrate_Uscite!E8 -> 303400 | D8: =Entrate_Uscite!H8 -> 608652.23 | E8: =Entrate_Uscite!K8 -> 0 | F8: =Entrate_Uscite!N8 -> 398069.11 | G8: =Entrate_Uscite!Q8 -> 2175818.2 | H8: =Entrate_Uscite!T8 -> 52151083 | I8: =Entrate_Uscite!W8 -> 10798940 | J8: =I8/I$21*100 -> 0.87049309 | K8: =IF(H8>0,I8/H8*100-100,"-") -> -79.292971 | L8: =Entrate_Uscite!X8 -> 42124.19 | M8: =IF(I8>0,L8/I8*100,"-") -> 0.39007709
A9: 404 Entrate da alienazione di beni materiali e immateriali | B9: =Entrate_Uscite!B9 -> 37122.48 | C9: =Entrate_Uscite!E9 -> 20360.4 | D9: =Entrate_Uscite!H9 -> 79354.7 | E9: =Entrate_Uscite!K9 -> 0 | F9: =Entrate_Uscite!N9 -> 124330 | G9: =Entrate_Uscite!Q9 -> 1043110.8 | H9: =Entrate_Uscite!T9 -> 28930.26 | I9: =Entrate_Uscite!W9 -> 9655.14 | J9: =I9/I$21*100 -> 0.00077829239 | K9: =IF(H9>0,I9/H9*100-100,"-") -> -66.626155 | L9: =Entrate_Uscite!X9 -> 9655.14 | M9: =IF(I9>0,L9/I9*100,"-") -> 100
A10: 405 Altre entrate in conto capitale | B10: =Entrate_Uscite!B10 -> 0 | C10: =Entrate_Uscite!E10 -> 260195.92 | D10: =Entrate_Uscite!H10 -> 477683.48 | E10: =Entrate_Uscite!K10 -> 365994.17 | F10: =Entrate_Uscite!N10 -> 9706262.7 | G10: =Entrate_Uscite!Q10 -> 3263326.6 | H10: =Entrate_Uscite!T10 -> 1715926.6 | I10: =Entrate_Uscite!W10 -> 1918810.8 | J10: =I10/I$21*100 -> 0.15467366 | K10: =IF(H10>0,I10/H10*100-100,"-") -> 11.823593 | L10: =Entrate_Uscite!X10 -> 1887332.3 | M10: =IF(I10>0,L10/I10*100,"-") -> 98.359482
A11: - Entrate in conto capitale | B11: =SUM(B6:B10) -> 59919590 | C11: =SUM(C6:C10) -> 1.3593099e+08 | D11: =SUM(D6:D10) -> 1.4630735e+08 | E11: =SUM(E6:E10) -> 1.0861416e+08 | F11: =SUM(F6:F10) -> 1.057828e+08 | G11: =SUM(G6:G10) -> 1.648088e+08 | H11: =SUM(H6:H10) -> 2.0101847e+08 | I11: =SUM(I6:I10) -> 1.541039e+08 | J11: =I11/I$21*100 -> 12.42218 | K11: =IF(H11>0,I11/H11*100-100,"-") -> -23.33844 | L11: =SUM(L6:L10) -> 22205778 | M11: =IF(I11>0,L11/I11*100,"-") -> 14.409615
A12: 501 Alienazione di attività finanziarie | B12: =Entrate_Uscite!B11 -> 0 | C12: =Entrate_Uscite!E11 -> 0 | D12: =Entrate_Uscite!H11 -> 0 | E12: =Entrate_Uscite!K11 -> 0 | F12: =Entrate_Uscite!N11 -> 0 | G12: =Entrate_Uscite!Q11 -> 0 | H12: =Entrate_Uscite!T11 -> 0 | I12: =Entrate_Uscite!W11 -> 0 | J12: =I12/I$21*100 -> 0 | K12: =IF(H12>0,I12/H12*100-100,"-") -> - | L12: =Entrate_Uscite!X11 -> 0 | M12: =IF(I12>0,L12/I12*100,"-") -> -
A13: 502_3 Riscossione di crediti | B13: =Entrate_Uscite!B12 -> 0 | C13: =Entrate_Uscite!E12 -> 0 | D13: =Entrate_Uscite!H12 -> 0 | E13: =Entrate_Uscite!K12 -> 0 | F13: =Entrate_Uscite!N12 -> 0 | G13: =Entrate_Uscite!Q12 -> 0 | H13: =Entrate_Uscite!T12 -> 0 | I13: =Entrate_Uscite!W12 -> 0 | J13: =I13/I$21*100 -> 0 | K13: =IF(H13>0,I13/H13*100-100,"-") -> - | L13: =Entrate_Uscite!X12 -> 0 | M13: =IF(I13>0,L13/I13*100,"-") -> -
A14: 504 Altre entrate per riduzione di attività finanziarie | B14: =Entrate_Uscite!B13 -> 0 | C14: =Entrate_Uscite!E13 -> 2217141 | D14: =Entrate_Uscite!H13 -> 15711215 | E14: =Entrate_Uscite!K13 -> 27373141 | F14: =Entrate_Uscite!N13 -> 12105035 | G14: =Entrate_Uscite!Q13 -> 17333563 | H14: =Entrate_Uscite!T13 -> 9556095.5 | I14: =Entrate_Uscite!W13 -> 8606039.8 | J14: =I14/I$21*100 -> 0.69372534 | K14: =IF(H14>0,I14/H14*100-100,"-") -> -9.9418816 | L14: =Entrate_Uscite!X13 -> 6402199.2 | M14: =IF(I14>0,L14/I14*100,"-") -> 74.391931
A15: - Entrate da riduzione attività finanziarie | B15: =SUM(B12:B14) -> 0 | C15: =SUM(C12:C14) -> 2217141 | D15: =SUM(D12:D14) -> 15711215 | E15: =SUM(E12:E14) -> 27373141 | F15: =SUM(F12:F14) -> 12105035 | G15: =SUM(G12:G14) -> 17333563 | H15: =SUM(H12:H14) -> 9556095.5 | I15: =SUM(I12:I14) -> 8606039.8 | J15: =I15/I$21*100 -> 0.69372534 | K15: =IF(H15>0,I15/H15*100-100,"-") -> -9.9418816 | L15: =SUM(L12:L14) -> 6402199.2 | M15: =IF(I15>0,L15/I15*100,"-") -> 74.391931
A16: Entrate finali | B16: =B5+B11+B15 -> 1.1079291e+09 | C16: =C5+C11+C15 -> 1.0506432e+09 | D16: =D5+D11+D15 -> 1.0744861e+09 | E16: =E5+E11+E15 -> 1.066362e+09 | F16: =F5+F11+F15 -> 1.0850446e+09 | G16: =G5+G11+G15 -> 1.147253e+09 | H16: =H5+H11+H15 -> 1.2497824e+09 | I16: =I5+I11+I15 -> 1.2405543e+09 | J16: =I16/I$21*100 -> 100 | K16: =IF(H16>0,I16/H16*100-100,"-") -> -0.7383741 | L16: =L5+L11+L15 -> 9.0760699e+08 | M16: =IF(I16>0,L16/I16*100,"-") -> 73.161405
A17: - Accensione di prestiti | B17: =Entrate_Uscite!B17 -> 254346000 | C17: =Entrate_Uscite!E17 -> 0 | D17: =Entrate_Uscite!H17 -> 0 | E17: =Entrate_Uscite!K17 -> 201345.96 | F17: =Entrate_Uscite!N17 -> 999258.91 | G17: =Entrate_Uscite!Q17 -> 73710323 | H17: =Entrate_Uscite!T17 -> 0 | I17: =Entrate_Uscite!W17 -> 0 | J17: =I17/I$21*100 -> 0 | K17: =IF(H17>0,I17/H17*100-100,"-") -> - | L17: =Entrate_Uscite!X17 -> 0 | M17: =IF(I17>0,L17/I17*100,"-") -> -
A18: - Anticipazioni da istituto tesoriere/cassiere | B18: =Entrate_Uscite!B18 -> 0 | C18: =Entrate_Uscite!E18 -> 0 | D18: =Entrate_Uscite!H18 -> 0 | E18: =Entrate_Uscite!K18 -> 0 | F18: =Entrate_Uscite!N18 -> 0 | G18: =Entrate_Uscite!Q18 -> 0 | H18: =Entrate_Uscite!T18 -> 0 | I18: =Entrate_Uscite!W18 -> 0 | J18: =I18/I$21*100 -> 0 | K18: =IF(H18>0,I18/H18*100-100,"-") -> - | L18: =Entrate_Uscite!X18 -> 0 | M18: =IF(I18>0,L18/I18*100,"-") -> -
A19: - Entrate per conto terzi e partite di giro | B19: =Entrate_Uscite!B19 -> 2.0302555e+08 | C19: =Entrate_Uscite!E19 -> 1.1984478e+08 | D19: =Entrate_Uscite!H19 -> 1.576634e+08 | E19: =Entrate_Uscite!K19 -> 1.1803529e+08 | F19: =Entrate_Uscite!N19 -> 1.7124172e+08 | G19: =Entrate_Uscite!Q19 -> 1.1486941e+08 | H19: =Entrate_Uscite!T19 -> 1.2794324e+08 | I19: =Entrate_Uscite!W19 -> 1.8177296e+08 | K19: =IF(H19>0,I19/H19*100-100,"-") -> 42.07313 | L19: =Entrate_Uscite!X19 -> 1.8125807e+08 | M19: =IF(I19>0,L19/I19*100,"-") -> 99.71674
A20: Totale Entrate | B20: =B5+B11+B15+B17+B18+B19 -> 1.5653006e+09 | C20: =C5+C11+C15+C17+C18+C19 -> 1.170488e+09 | D20: =D5+D11+D15+D17+D18+D19 -> 1.2321495e+09 | E20: =E5+E11+E15+E17+E18+E19 -> 1.1845987e+09 | F20: =F5+F11+F15+F17+F18+F19 -> 1.2572855e+09 | G20: =G5+G11+G15+G17+G18+G19 -> 1.3358328e+09 | H20: =H5+H11+H15+H17+H18+H19 -> 1.3777257e+09 | I20: =I5+I11+I15+I17+I18+I19 -> 1.4223273e+09 | K20: =IF(H20>0,I20/H20*100-100,"-") -> 3.2373394 | L20: =L5+L11+L15+L17+L18+L19 -> 1.0888651e+09 | M20: =IF(I20>0,L20/I20*100,"-") -> 76.555168
A21: Entrate nette | B21: =B20-B19 -> 1.3622751e+09 | C21: =C20-C19 -> 1.0506432e+09 | D21: =D20-D19 -> 1.0744861e+09 | E21: =E20-E19 -> 1.0665634e+09 | F21: =F20-F19 -> 1.0860438e+09 | G21: =G20-G19 -> 1.2209634e+09 | H21: =H20-H19 -> 1.2497824e+09 | I21: =I20-I19 -> 1.2405543e+09 | J21: =I21/I$21*100 -> 100 | K21: =IF(H21>0,I21/H21*100-100,"-") -> -0.7383741 | L21: =L20-L19 -> 9.0760699e+08 | M21: =IF(I21>0,L21/I21*100,"-") -> 73.161405

Sheet Tav_Uscite
B1: 2016 | C1: 2017 | D1: 2018 | E1: 2019 | F1: 2020 | G1: 2021 | H1: 2022 | I1: 2023 | J1: Comp.% netta | K1: Var. % | L1: Pagamenti 2023 | M1: % Pag.
A2: 101 Redditi da lavoro dipendente | B2: =Entrate_Uscite!B23 -> 37698418 | C2: =Entrate_Uscite!E23 -> 34451236 | D2: =Entrate_Uscite!H23 -> 32501170 | E2: =Entrate_Uscite!K23 -> 33655615 | F2: =Entrate_Uscite!N23 -> 31024702 | G2: =Entrate_Uscite!Q23 -> 28483977 | H2: =Entrate_Uscite!T23 -> 26595503 | I2: =Entrate_Uscite!W23 -> 22378197 | J2: =I2/I$31*100 -> 1.8865606 | K2: =IF(H2>0,I2/H2*100-100,"-") -> -15.857216 | L2: =Entrate_Uscite!X23 -> 21726837 | M2: =IF(I2>0,L2/I2*100,"-") -> 97.089311
A3: 102 Imposte e tasse a carico dell'ente | B3: =Entrate_Uscite!B24 -> 1046665.8 | C3: =Entrate_Uscite!E24 -> 1124039.4 | D3: =Entrate_Uscite!H24 -> 2975787.9 | E3: =Entrate_Uscite!K24 -> 2848263.8 | F3: =Entrate_Uscite!N24 -> 2835183 | G3: =Entrate_Uscite!Q24 -> 2299687.8 | H3: =Entrate_Uscite!T24 -> 2205436.2 | I3: =Entrate_Uscite!W24 -> 2038180.3 | J3: =I3/I$31*100 -> 0.17182576 | K3: =IF(H3>0,I3/H3*100-100,"-") -> -7.5838005 | L3: =Entrate_Uscite!X24 -> 1964640.3 | M3: =IF(I3>0,L3/I3*100,"-") -> 96.391881
A4: 103 Acquisto di beni e servizi | B4: =Entrate_Uscite!B25 -> 3.9324143e+08 | C4: =Entrate_Uscite!E25 -> 1.657952e+08 | D4: =Entrate_Uscite!H25 -> 1.7935224e+08 | E4: =Entrate_Uscite!K25 -> 1.7400669e+08 | F4: =Entrate_Uscite!N25 -> 1.7813224e+08 | G4: =Entrate_Uscite!Q25 -> 1.5921862e+08 | H4: =Entrate_Uscite!T25 -> 1.8643119e+08 | I4: =Entrate_Uscite!W25 -> 2.076663e+08 | J4: =I4/I$31*100 -> 17.506998 | K4: =IF(H4>0,I4/H4*100-100,"-") -> 11.390321 | L4: =Entrate_Uscite!X25 -> 1.5557908e+08 | M4: =IF(I4>0,L4/I4*100,"-") -> 74.917829
A5: 104 Trasferimenti correnti | B5: =Entrate_Uscite!B26 -> 8.5902319e+08 | C5: =Entrate_Uscite!E26 -> 6.4472039e+08 | D5: =Entrate_Uscite!H26 -> 6.16377e+08 | E5: =Entrate_Uscite!K26 -> 6.417937e+08 | F5: =Entrate_Uscite!N26 -> 6.8457896e+08 | G5: =Entrate_Uscite!Q26 -> 6.8681296e+08 | H5: =Entrate_Uscite!T26 -> 7.2648231e+08 | I5: =Entrate_Uscite!W26 -> 7.0970106e+08 | J5: =I5/I$31*100 -> 59.830292 | K5: =IF(H5>0,I5/H5*100-100,"-") -> -2.3099321 | L5: =Entrate_Uscite!X26 -> 5.9024475e+08 | M5: =IF(I5>0,L5/I5*100,"-") -> 83.168081
A6: 107 Interessi passivi | B6: =Entrate_Uscite!B29 -> 16280128 | C6: =Entrate_Uscite!E29 -> 15091460 | D6: =Entrate_Uscite!H29 -> 16088120 | E6: =Entrate_Uscite!K29 -> 11636669 | F6: =Entrate_Uscite!N29 -> 14482562 | G6: =Entrate_Uscite!Q29 -> 13274705 | H6: =Entrate_Uscite!T29 -> 11903778 | I6: =Entrate_Uscite!W29 -> 13892698 | J6: =I6/I$31*100 -> 1.1712033 | K6: =IF(H6>0,I6/H6*100-100,"-") -> 16.708309 | L6: =Entrate_Uscite!X29 -> 13553633 | M6: =IF(I6>0,L6/I6*100,"-") -> 97.559396
A7: 108 Altre spese per redditi da capitale | B7: =Entrate_Uscite!B30 -> 0 | C7: =Entrate_Uscite!E30 -> 0 | D7: =Entrate_Uscite!H30 -> 0 | E7: =Entrate_Uscite!K30 -> 0 | F7: =Entrate_Uscite!N30 -> 0 | G7: =Entrate_Uscite!Q30 -> 0 | H7: =Entrate_Uscite!T30 -> 0 | I7: =Entrate_Uscite!W30 -> 0 | J7: =I7/I$31*100 -> 0 | K7: =IF(H7>0,I7/H7*100-100,"-") -> - | L7: =Entrate_Uscite!X30 -> 0 | M7: =IF(I7>0,L7/I7*100,"-") -> -
A8: 109 Rimborsi e poste correttive delle entrate | B8: =Entrate_Uscite!B31 -> 567159.06 | C8: =Entrate_Uscite!E31 -> 254584.82 | D8: =Entrate_Uscite!H31 -> 266896.41 | E8: =Entrate_Uscite!K31 -> 266413.04 | F8: =Entrate_Uscite!N31 -> 138014.01 | G8: =Entrate_Uscite!Q31 -> 45007.24 | H8: =Entrate_Uscite!T31 -> 61132.14 | I8: =Entrate_Uscite!W31 -> 84674.59 | J8: =I8/I$31*100 -> 0.0071383654 | K8: =IF(H8>0,I8/H8*100-100,"-") -> 38.510757 | L8: =Entrate_Uscite!X31 -> 77493.62 | M8: =IF(I8>0,L8/I8*100,"-") -> 91.519333
A9: 110 Altre spese correnti | B9: =Entrate_Uscite!B32 -> 2615971.2 | C9: =Entrate_Uscite!E32 -> 19672776 | D9: =Entrate_Uscite!H32 -> 11261556 | E9: =Entrate_Uscite!K32 -> 16427949 | F9: =Entrate_Uscite!N32 -> 16730881 | G9: =Entrate_Uscite!Q32 -> 18956990 | H9: =Entrate_Uscite!T32 -> 21508109 | I9: =Entrate_Uscite!W32 -> 26815712 | J9: =I9/I$31*100 -> 2.2606587 | K9: =IF(H9>0,I9/H9*100-100,"-") -> 24.677221 | L9: =Entrate_Uscite!X32 -> 16573957 | M9: =IF(I9>0,L9/I9*100,"-") -> 61.806886
A10: - Spese correnti | B10: =SUM(B2:B9) -> 1.310473e+09 | C10: =SUM(C2:C9) -> 8.8110968e+08 | D10: =SUM(D2:D9) -> 8.5882277e+08 | E10: =SUM(E2:E9) -> 8.806353e+08 | F10: =SUM(F2:F9) -> 9.2792254e+08 | G10: =SUM(G2:G9) -> 9.0909195e+08 | H10: =SUM(H2:H9) -> 9.7518745e+08 | I10: =SUM(I2:I9) -> 9.8257682e+08 | J10: =I10/I$31*100 -> 82.834677 | K10: =IF(H10>0,I10/H10*100-100,"-") -> 0.75773816 | L10: =SUM(L2:L9) -> 7.997204e+08 | M10: =IF(I10>0,L10/I10*100,"-") -> 81.390114
A11: 202 Investimenti fissi lordi e acquisto di terreni | B11: =Entrate_Uscite!B34 -> 1673391.1 | C11: =Entrate_Uscite!E34 -> 271221.66 | D11: =Entrate_Uscite!H34 -> 757438.59 | E11: =Entrate_Uscite!K34 -> 4669944 | F11: =Entrate_Uscite!N34 -> 1642041.1 | G11: =Entrate_Uscite!Q34 -> 15597712 | H11: =Entrate_Uscite!T34 -> 3723802.1 | I11: =Entrate_Uscite!W34 -> 21605169 | J11: =I11/I$31*100 -> 1.8213916 | K11: =IF(H11>0,I11/H11*100-100,"-") -> 480.19112 | L11: =Entrate_Uscite!X34 -> 5851907.7 | M11: =IF(I11>0,L11/I11*100,"-") -> 27.085684
A12: 203 Contributi agli investimenti | B12: =Entrate_Uscite!B35 -> 1.2804531e+08 | C12: =Entrate_Uscite!E35 -> 1.7766518e+08 | D12: =Entrate_Uscite!H35 -> 1.7119365e+08 | E12: =Entrate_Uscite!K35 -> 1.3501492e+08 | F12: =Entrate_Uscite!N35 -> 1.3835742e+08 | G12: =Entrate_Uscite!Q35 -> 1.451829e+08 | H12: =Entrate_Uscite!T35 -> 2.0854249e+08 | I12: =Entrate_Uscite!W35 -> 1.4642852e+08 | J12: =I12/I$31*100 -> 12.344438 | K12: =IF(H12>0,I12/H12*100-100,"-") -> -29.784805 | L12: =Entrate_Uscite!X35 -> 28360405 | M12: =IF(I12>0,L12/I12*100,"-") -> 19.368089
A13: 204 Altri trasferimenti in conto capitale | B13: =Entrate_Uscite!B36 -> 77844.02 | C13: =Entrate_Uscite!E36 -> 87961.88 | D13: =Entrate_Uscite!H36 -> 1540562.9 | E13: =Entrate_Uscite!K36 -> 58102.06 | F13: =Entrate_Uscite!N36 -> 2818383.1 | G13: =Entrate_Uscite!Q36 -> 5325713.8 | H13: =Entrate_Uscite!T36 -> 630211.3 | I13: =Entrate_Uscite!W36 -> 2267215.6 | J13: =I13/I$31*100 -> 0.19113424 | K13: =IF(H13>0,I13/H13*100-100,"-") -> 259.75483 | L13: =Entrate_Uscite!X36 -> 701148.64 | M13: =IF(I13>0,L13/I13*100,"-") -> 30.925539
A14: 205 Altre spese in conto capitale | B14: =Entrate_Uscite!B37 -> 4874921 | C14: =Entrate_Uscite!E37 -> 1601096.6 | D14: =Entrate_Uscite!H37 -> 5170214 | E14: =Entrate_Uscite!K37 -> 3999.16 | F14: =Entrate_Uscite!N37 -> 940699.46 | G14: =Entrate_Uscite!Q37 -> 3703188.7 | H14: =Entrate_Uscite!T37 -> 452370.45 | I14: =Entrate_Uscite!W37 -> 1031698.7 | J14: =I14/I$31*100 -> 0.086975821 | K14: =IF(H14>0,I14/H14*100-100,"-") -> 128.065 | L14: =Entrate_Uscite!X37 -> 50334.79 | M14: =IF(I14>0,L14/I14*100,"-") -> 4.8788267
A15: - Spese in conto capitale | B15: =SUM(B11:B14) -> 1.3467147e+08 | C15: =SUM(C11:C14) -> 1.7962546e+08 | D15: =SUM(D11:D14) -> 1.7866186e+08 | E15: =SUM(E11:E14) -> 1.3974697e+08 | F15: =SUM(F11:F14) -> 1.4375855e+08 | G15: =SUM(G11:G14) -> 1.6980951e+08 | H15: =SUM(H11:H14) -> 2.1334887e+08 | I15: =SUM(I11:I14) -> 1.713326e+08 | J15: =I15/I$31*100 -> 14.44394 | K15: =IF(H15>0,I15/H15*100-100,"-") -> -19.693694 | L15: =SUM(L11:L14) -> 34963796 | M15: =IF(I15>0,L15/I15*100,"-") -> 20.406972
A16: 301 Acquisizioni di attività finanziarie | B16: =Entrate_Uscite!B38 -> 0 | C16: =Entrate_Uscite!E38 -> 1967158.2 | D16: =Entrate_Uscite!H38 -> 0 | E16: =Entrate_Uscite!K38 -> 1947750 | F16: =Entrate_Uscite!N38 -> 0 | G16: =Entrate_Uscite!Q38 -> 0 | H16: =Entrate_Uscite!T38 -> 0 | I16: =Entrate_Uscite!W38 -> 0 | J16: =I16/I$31*100 -> 0 | K16: =IF(H16>0,I16/H16*100-100,"-") -> - | L16: =Entrate_Uscite!X38 -> 0 | M16: =IF(I16>0,L16/I16*100,"-") -> -
A17: 302 Concessione crediti di breve termine | B17: =Entrate_Uscite!B39 -> 0 | C17: =Entrate_Uscite!E39 -> 0 | D17: =Entrate_Uscite!H39 -> 0 | E17: =Entrate_Uscite!K39 -> 0 | F17: =Entrate_Uscite!N39 -> 0 | G17: =Entrate_Uscite!Q39 -> 0 | H17: =Entrate_Uscite!T39 -> 0 | I17: =Entrate_Uscite!W39 -> 0 | J17: =I17/I$31*100 -> 0 | K17: =IF(H17>0,I17/H17*100-100,"-") -> - | L17: =Entrate_Uscite!X39 -> 0 | M17: =IF(I17>0,L17/I17*100,"-") -> -
A18: 303 Concessione crediti di medio-lungo termine | B18: =Entrate_Uscite!B40 -> 0 | C18: =Entrate_Uscite!E40 -> 0 | D18: =Entrate_Uscite!H40 -> 0 | E18: =Entrate_Uscite!K40 -> 0 | F18: =Entrate_Uscite!N40 -> 0 | G18: =Entrate_Uscite!Q40 -> 0 | H18: =Entrate_Uscite!T40 -> 0 | I18: =Entrate_Uscite!W40 -> 0 | J18: =I18/I$31*100 -> 0 | K18: =IF(H18>0,I18/H18*100-100,"-") -> - | L18: =Entrate_Uscite!X40 -> 0 | M18: =IF(I18>0,L18/I18*100,"-") -> -
A19: 304 Altre spese per incremento di attività finanziarie | B19: =Entrate_Uscite!B41 -> 1637500 | C19: =Entrate_Uscite!E41 -> 3854641 | D19: =Entrate_Uscite!H41 -> 17348715 | E19: =Entrate_Uscite!K41 -> 29010641 | F19: =Entrate_Uscite!N41 -> 12105035 | G19: =Entrate_Uscite!Q41 -> 17333563 | H19: =Entrate_Uscite!T41 -> 9556095.5 | I19: =Entrate_Uscite!W41 -> 8606039.8 | J19: =I19/I$31*100 -> 0.72551939 | K19: =IF(H19>0,I19/H19*100-100,"-") -> -9.9418816 | L19: =Entrate_Uscite!X41 -> 8606039.8 | M19: =IF(I19>0,L19/I19*100,"-") -> 100
A20: - Spese per incremento attività finanziarie | B20: =SUM(B16:B19) -> 1637500 | C20: =SUM(C16:C19) -> 5821799.2 | D20: =SUM(D16:D19) -> 17348715 | E20: =SUM(E16:E19) -> 30958391 | F20: =SUM(F16:F19) -> 12105035 | G20: =SUM(G16:G19) -> 17333563 | H20: =SUM(H16:H19) -> 9556095.5 | I20: =SUM(I16:I19) -> 8606039.8 | J20: =I20/I$31*100 -> 0.72551939 | K20: =IF(H20>0,I20/H20*100-100,"-") -> -9.9418816 | L20: =SUM(L16:L19) -> 8606039.8 | M20: =IF(I20>0,L20/I20*100,"-") -> 100
A21: Uscite finali | B21: =B10+B15+B20 -> 1.4467819e+09 | C21: =C10+C15+C20 -> 1.0665569e+09 | D21: =D10+D15+D20 -> 1.0548333e+09 | E21: =E10+E15+E20 -> 1.0513407e+09 | F21: =F10+F15+F20 -> 1.0837861e+09 | G21: =G10+G15+G20 -> 1.096235e+09 | H21: =H10+H15+H20 -> 1.1980924e+09 | I21: =I10+I15+I20 -> 1.1625155e+09 | J21: =I21/I$31*100 -> 98.004136 | K21: =IF(H21>0,I21/H21*100-100,"-") -> -2.9694672 | L21: =L10+L15+L20 -> 8.4329023e+08 | M21: =IF(I21>0,L21/I21*100,"-") -> 72.540131
A22: 401 Rimborso di titoli obbligazionari | B22: =Entrate_Uscite!B42 -> 8888190.9 | C22: =Entrate_Uscite!E42 -> 8944318.3 | D22: =Entrate_Uscite!H42 -> 9001782.6 | E22: =Entrate_Uscite!K42 -> 9110384.9 | F22: =Entrate_Uscite!N42 -> 9120722.8 | G22: =Entrate_Uscite!Q42 -> 0 | H22: =Entrate_Uscite!T42 -> 9309773.6 | I22: =Entrate_Uscite!W42 -> 9309773.6 | J22: =I22/I$31*100 -> 0.78484662 | K22: =IF(H22>0,I22/H22*100-100,"-") -> 0 | L22: =Entrate_Uscite!X42 -> 9309773.6 | M22: =IF(I22>0,L22/I22*100,"-") -> 100
A23: 402 Rimborso prestiti a breve termine | B23: =Entrate_Uscite!B43 -> 0 | C23: =Entrate_Uscite!E43 -> 0 | D23: =Entrate_Uscite!H43 -> 0 | E23: =Entrate_Uscite!K43 -> 201345.96 | F23: =Entrate_Uscite!N43 -> 999258.91 | G23: =Entrate_Uscite!Q43 -> 0 | H23: =Entrate_Uscite!T43 -> 0 | I23: =Entrate_Uscite!W43 -> 0 | J23: =I23/I$31*100 -> 0 | K23: =IF(H23>0,I23/H23*100-100,"-") -> - | L23: =Entrate_Uscite!X43 -> 0 | M23: =IF(I23>0,L23/I23*100,"-") -> -
A24: 403 Rimborso mutui e finanziamenti a medio-lungo termine | B24: =Entrate_Uscite!B44 -> 8671629.3 | C24: =Entrate_Uscite!E44 -> 16067687 | D24: =Entrate_Uscite!H44 -> 15600781 | E24: =Entrate_Uscite!K44 -> 10904810 | F24: =Entrate_Uscite!N44 -> 9960078.1 | G24: =Entrate_Uscite!Q44 -> 0 | H24: =Entrate_Uscite!T44 -> 14169656 | I24: =Entrate_Uscite!W44 -> 14364965 | J24: =I24/I$31*100 -> 1.211017 | K24: =IF(H24>0,I24/H24*100-100,"-") -> 1.3783593 | L24: =Entrate_Uscite!X44 -> 14364965 | M24: =IF(I24>0,L24/I24*100,"-") -> 100
A25: 404 Rimborso di altre forme di indebitamento | B25: =Entrate_Uscite!B45 -> 0 | C25: =Entrate_Uscite!E45 -> 0 | D25: =Entrate_Uscite!H45 -> 0 | E25: =Entrate_Uscite!K45 -> 0 | F25: =Entrate_Uscite!N45 -> 0 | G25: =Entrate_Uscite!Q45 -> 0 | H25: =Entrate_Uscite!T45 -> 0 | I25: =Entrate_Uscite!W45 -> 0 | J25: =I25/I$31*100 -> 0 | K25: =IF(H25>0,I25/H25*100-100,"-") -> - | L25: =Entrate_Uscite!X45 -> 0 | M25: =IF(I25>0,L25/I25*100,"-") -> -
A26: 405 Fondi per rimborso prestiti | B26: =Entrate_Uscite!B46 -> 0 | C26: =Entrate_Uscite!E46 -> 0 | D26: =Entrate_Uscite!H46 -> 0 | E26: =Entrate_Uscite!K46 -> 0 | F26: =Entrate_Uscite!N46 -> 0 | G26: =Entrate_Uscite!Q46 -> 0 | H26: =Entrate_Uscite!T46 -> 0 | I26: =Entrate_Uscite!W46 -> 0 | J26: =I26/I$31*100 -> 0 | K26: =IF(H26>0,I26/H26*100-100,"-") -> - | L26: =Entrate_Uscite!X46 -> 0 | M26: =IF(I26>0,L26/I26*100,"-") -> -
A27: - Rimborso prestiti | B27: =SUM(B22:B26) -> 17559820 | C27: =SUM(C22:C26) -> 25012005 | D27: =SUM(D22:D26) -> 24602564 | E27: =SUM(E22:E26) -> 20216541 | F27: =SUM(F22:F26) -> 20080060 | G27: =SUM(G22:G26) -> 0 | H27: =SUM(H22:H26) -> 23479430 | I27: =SUM(I22:I26) -> 23674739 | J27: =I27/I$31*100 -> 1.9958636 | K27: =IF(H27>0,I27/H27*100-100,"-") -> 0.83182927 | L27: =SUM(L22:L26) -> 23674739 | M27: =IF(I27>0,L27/I27*100,"-") -> 100
A28: - Chiusura anticipazioni ricevute da tesoriere/cassiere | B28: =Entrate_Uscite!B54 -> 0 | C28: =Entrate_Uscite!E54 -> 0 | D28: =Entrate_Uscite!H54 -> 0 | E28: =Entrate_Uscite!K54 -> 0 | F28: =Entrate_Uscite!N54 -> 0 | G28: =Entrate_Uscite!Q54 -> 0 | H28: =Entrate_Uscite!T54 -> 0 | I28: =Entrate_Uscite!W54 -> 0 | J28: =I28/I$31*100 -> 0 | K28: =IF(H28>0,I28/H28*100-100,"-") -> - | L28: =Entrate_Uscite!X54 -> 0 | M28: =IF(I28>0,L28/I28*100,"-") -> -
A29: - Uscite per conto terzi e partite di giro | B29: =Entrate_Uscite!B55 -> 2.0302555e+08 | C29: =Entrate_Uscite!E55 -> 1.1984478e+08 | D29: =Entrate_Uscite!H55 -> 1.576634e+08 | E29: =Entrate_Uscite!K55 -> 1.1803529e+08 | F29: =Entrate_Uscite!N55 -> 1.7124172e+08 | G29: =Entrate_Uscite!Q55 -> 1.1486941e+08 | H29: =Entrate_Uscite!T55 -> 1.2794324e+08 | I29: =Entrate_Uscite!W55 -> 1.8177296e+08 | K29: =IF(H29>0,I29/H29*100-100,"-") -> 42.07313 | L29: =Entrate_Uscite!X55 -> 99316852 | M29: =IF(I29>0,L29/I29*100,"-") -> 54.637857
A30: Totale Uscite | B30: =B10+B15+B20+B27+B28+B29 -> 1.6673673e+09 | C30: =C10+C15+C20+C27+C28+C29 -> 1.2114137e+09 | D30: =D10+D15+D20+D27+D28+D29 -> 1.2370993e+09 | E30: =E10+E15+E20+E27+E28+E29 -> 1.1895925e+09 | F30: =F10+F15+F20+F27+F28+F29 -> 1.2751079e+09 | G30: =G10+G15+G20+G27+G28+G29 -> 1.2111044e+09 | H30: =H10+H15+H20+H27+H28+H29 -> 1.3495151e+09 | I30: =I10+I15+I20+I27+I28+I29 -> 1.3679632e+09 | K30: =IF(H30>0,I30/H30*100-100,"-") -> 1.3670148 | L30: =L10+L15+L20+L27+L28+L29 -> 9.6628182e+08 | M30: =IF(I30>0,L30/I30*100,"-") -> 70.636538
A31: Uscite nette | B31: =B30-B29 -> 1.4643418e+09 | C31: =C30-C29 -> 1.0915689e+09 | D31: =D30-D29 -> 1.0794359e+09 | E31: =E30-E29 -> 1.0715572e+09 | F31: =F30-F29 -> 1.1038662e+09 | G31: =G30-G29 -> 1.096235e+09 | H31: =H30-H29 -> 1.2215718e+09 | I31: =I30-I29 -> 1.1861902e+09 | J31: =I31/I$31*100 -> 100 | K31: =IF(H31>0,I31/H31*100-100,"-") -> -2.8964038 | L31: =L30-L29 -> 8.6696497e+08 | M31: =IF(I31>0,L31/I31*100,"-") -> 73.088192

Sheet Tav_Saldi
B1: 2016 | C1: 2017 | D1: 2018 | E1: 2019 | F1: 2020 | G1: 2021 | H1: 2022 | I1: 2023 | J1: Diff. | K1: Risc. - Pag.
A2: Saldo corrente | B2: =Entrate_Uscite!B59 -> -2.6246346e+08 | C2: =Entrate_Uscite!E59 -> 31385398 | D2: =Entrate_Uscite!H59 -> 53644793 | E2: =Entrate_Uscite!K59 -> 49739424 | F2: =Entrate_Uscite!N59 -> 39234174 | G2: =Entrate_Uscite!Q59 -> 56018716 | H2: =Entrate_Uscite!T59 -> 64020395 | I2: =Entrate_Uscite!W59 -> 95267588 | J2: =I2-H2 -> 31247193 | K2: =Entrate_Uscite!X59 -> 79278616
A3: Saldo in conto capitale | B3: =Entrate_Uscite!B60 -> -74751879 | C3: =Entrate_Uscite!E60 -> -43694463 | D3: =Entrate_Uscite!H60 -> -32354517 | E3: =Entrate_Uscite!K60 -> -31132808 | F3: =Entrate_Uscite!N60 -> -37975744 | G3: =Entrate_Uscite!Q60 -> -5000712 | H3: =Entrate_Uscite!T60 -> -12330401 | I3: =Entrate_Uscite!W60 -> -17228702 | J3: =I3-H3 -> -4898300.9 | K3: =Entrate_Uscite!X60 -> -12758018
A4: Saldo riduzione/incremento attività finanziarie | B4: =Entrate_Uscite!B16-Entrate_Uscite!B52 -> -1637500 | C4: =Entrate_Uscite!E16-Entrate_Uscite!E52 -> -3604658.2 | D4: =Entrate_Uscite!H16-Entrate_Uscite!H52 -> -1637500 | E4: =Entrate_Uscite!K16-Entrate_Uscite!K52 -> -3585250 | F4: =Entrate_Uscite!N16-Entrate_Uscite!N52 -> 0 | G4: =Entrate_Uscite!Q16-Entrate_Uscite!Q52 -> 0 | H4: =Entrate_Uscite!T16-Entrate_Uscite!T52 -> 0 | I4: =Entrate_Uscite!W16-Entrate_Uscite!W52 -> 0 | J4: =I4-H4 -> 0 | K4: =Entrate_Uscite!X16-Entrate_Uscite!X52 -> -2203840.7
A5: Saldo finale | B5: =SUM(Entrate_Uscite!B14:B16)-SUM(Entrate_Uscite!B50:B52) -> -3.3885284e+08 | C5: =SUM(Entrate_Uscite!E14:E16)-SUM(Entrate_Uscite!E50:E52) -> -15913723 | D5: =SUM(Entrate_Uscite!H14:H16)-SUM(Entrate_Uscite!H50:H52) -> 19652776 | E5: =SUM(Entrate_Uscite!K14:K16)-SUM(Entrate_Uscite!K50:K52) -> 15021366 | F5: =SUM(Entrate_Uscite!N14:N16)-SUM(Entrate_Uscite!N50:N52) -> 1258429.9 | G5: =SUM(Entrate_Uscite!Q14:Q16)-SUM(Entrate_Uscite!Q50:Q52) -> 51018004 | H5: =SUM(Entrate_Uscite!T14:T16)-SUM(Entrate_Uscite!T50:T52) -> 51689994 | I5: =SUM(Entrate_Uscite!W14:W16)-SUM(Entrate_Uscite!W50:W52) -> 78038886 | J5: =I5-H5 -> 26348892 | K5: =SUM(Entrate_Uscite!X14:X16)-SUM(Entrate_Uscite!X50:X52) -> 64316758
A6: Saldo netto | B6: =Entrate_Uscite!B58 -> -1.0206666e+08 | C6: =Entrate_Uscite!E58 -> -40925728 | D6: =Entrate_Uscite!H58 -> -4949788 | E6: =Entrate_Uscite!K58 -> -4993828.5 | F6: =Entrate_Uscite!N58 -> -17822371 | G6: =Entrate_Uscite!Q58 -> 29968654 | H6: =Entrate_Uscite!T58 -> 28210565 | I6: =Entrate_Uscite!W58 -> 54364148 | J6: =I6-H6 -> 26153583 | K6: =Entrate_Uscite!X58 -> 40642019

Sheet Risultato_amministrazione
B1: 2016 | C1: 2017 | D1: 2018 | E1: 2019 | F1: 2020 | G1: 2021 | H1: 2022 | I1: 2023
A2: Saldo di cassa | B2: 2.5093384e+08 | C2: 1.2710157e+08 | D2: 57018022 | E2: 47913605 | F2: 63751405 | G2: 43007913 | H2: 64996962 | I2: 87434657
A3: Residui attivi | B3: 6.6432153e+08 | C3: 5.964224e+08 | D3: 6.1659903e+08 | E3: 6.9914201e+08 | F3: 5.3470617e+08 | G3: 6.4546679e+08 | H3: 8.5377262e+08 | I3: 9.156676e+08
A4: Residui passivi | B4: 5.8995834e+08 | C4: 5.2687246e+08 | D4: 4.8822961e+08 | E4: 6.0850532e+08 | F4: 4.7435251e+08 | G4: 5.3155211e+08 | H4: 7.2818456e+08 | I4: 7.902943e+08
A5: FPV per spese correnti | B5: 5858293.2 | C5: 2223664.2 | D5: 10716809 | E5: 15390739 | F5: 15916911 | G5: 40841936 | H5: 18930877 | I5: 19819402
A6: FPV per spese in conto capitale (*) | B6: 1.1357895e+08 | C6: 52254146 | D6: 39621952 | E6: 25286129 | F6: 48363054 | G6: 39715772 | H6: 26542630 | I6: 53070866
A7: Risultato di amministrazione (A) | B7: =B2+B3-B4-B5-B6 -> 2.0585979e+08 | C7: =C2+C3-C4-C5-C6 -> 1.421737e+08 | D7: =D2+D3-D4-D5-D6 -> 1.3504868e+08 | E7: =E2+E3-E4-E5-E6 -> 97873429 | F7: =F2+F3-F4-F5-F6 -> 59825099 | G7: =G2+G3-G4-G5-G6 -> 76364887 | H7: =H2+H3-H4-H5-H6 -> 1.4511152e+08 | I7: =I2+I3-I4-I5-I6 -> 1.3991768e+08
A8: Fondo crediti di dubbia esigibilità | B8: 9660400.3 | C8: 12073179 | D8: 27266581 | E8: 25844693 | F8: 92793709 | G8: 1.0207218e+08 | H8: 92408038 | I8: 65238878
A9: Fondo a copertura residui perenti | B9: 60890429 | C9: 3945626.1 | D9: 2981585.7 | E9: 2833244.5 | F9: 31732356 | G9: 21489697 | H9: 21489697 | I9: 21489697
A10: Fondo anticipazioni liquidità DL35/2013 | B10: =69084525.37+254346000 -> 3.2343053e+08 | C10: 3.1388245e+08 | D10: 3.0256817e+08 | E10: 2.9280402e+08 | F10: 2.8295314e+08 | G10: 2.7301378e+08 | H10: 2.6325283e+08 | I10: 2.5342688e+08
A11: Fondo perdite società partecipate | B11: 2030127.3 | C11: 3898068.5 | D11: 658355.75 | E11: 1089214 | F11: 0 | G11: 0 | H11: 963918.37 | I11: 5319577
A12: Fondo contenzioso | B12: 0 | C12: 5298843.3 | D12: 6877824.3 | E12: 5552490.8 | F12: 14536233 | G12: 19502149 | H12: 52963989 | I12: 54449519
A13: Altri accantonamenti | B13: 2039328.9 | C13: 1872515 | D13: 15051450 | E13: 13835075 | F13: 44350083 | G13: 46146681 | H13: 76340269 | I13: 80993614
A14: Parte accantonata (B) | B14: =SUM(B8:B13) -> 3.9805081e+08 | C14: =SUM(C8:C13) -> 3.4097069e+08 | D14: =SUM(D8:D13) -> 3.5540397e+08 | E14: =SUM(E8:E13) -> 3.4195874e+08 | F14: =SUM(F8:F13) -> 4.6636552e+08 | G14: =SUM(G8:G13) -> 4.6222448e+08 | H14: =SUM(H8:H13) -> 5.0741874e+08 | I14: =SUM(I8:I13) -> 4.8091817e+08
A15: Vincoli da leggi e principi contabili | B15: 0 | C15: 0 | D15: 0 | E15: 0 | F15: 0 | G15: 0 | H15: 0 | I15: 0
A16: Vincoli da trasferimenti | B16: 3.3484969e+08 | C16: 3.0975756e+08 | D16: 2.7895959e+08 | E16: 2.6244173e+08 | F16: 1.7823084e+08 | G16: 1.8034365e+08 | H16: 1.8896174e+08 | I16: 1.6468091e+08
A17: Vincoli da contrazione di mutui | B17: 0 | D17: 9146602.5 | E17: 6972380.9 | F17: 3417543.6 | G17: 3417543.6 | H17: 3417543.6 | I17: 3437761.4
A18: Vincoli attribuiti dall'ente | B18: 0 | D18: 0 | E18: 947357.51 | F18: 0 | G18: 0 | H18: 0 | I18: 0
A19: Altri vincoli | B19: 0 | D19: 3283686.3 | E19: 0 | F19: 931018.09 | G19: 13446133 | H19: 14794546 | I19: 13889466
A20: Parte vincolata (C) | B20: =SUM(B15:B19) -> 3.3484969e+08 | C20: =SUM(C15:C19) -> 3.0975756e+08 | D20: =SUM(D15:D19) -> 2.9138988e+08 | E20: =SUM(E15:E19) -> 2.7036147e+08 | F20: =SUM(F15:F19) -> 1.8257941e+08 | G20: =SUM(G15:G19) -> 1.9720733e+08 | H20: =SUM(H15:H19) -> 2.0717383e+08 | I20: =SUM(I15:I19) -> 1.8200814e+08
A21: Parte destinata a investimenti (D) | B21: 0 | C21: 0 | D21: 0 | E21: 0 | F21: 0 | G21: 0 | H21: 0 | I21: 0
A22: Parte disponibile (E=A-B-C-D) | B22: =B7-B14-B20-B21 -> -5.2704071e+08 | C22: =C7-C14-C20-C21 -> -5.0855454e+08 | D22: =D7-D14-D20-D21 -> -5.1174517e+08 | E22: =E7-E14-E20-E21 -> -5.1444678e+08 | F22: =F7-F14-F20-F21 -> -5.8911983e+08 | G22: =G7-G14-G20-G21 -> -5.8306693e+08 | H22: =H7-H14-H20-H21 -> -5.6948106e+08 | I22: =I7-I14-I20-I21 -> -5.2300863e+08
B23: -2.6325919e+08 | C23: -87097844 | D23: -10521327 | E23: -47454947 | F23: -16686239 | G23: -11876699 | H23: -4668215.4 | I23: -38241298
