Workbook

Sheet Entrate_Uscite
B1: 2016 | E1: 2017 | H1: 2018 | K1: 2019 | N1: 2020 | Q1: 2021 | T1: 2022 | W1: 2023 | Z1: Var. %
B2: Acc | C2: Risc | D2: %Risc | E2: Acc | F2: Risc | G2: %Risc | H2: Acc | I2: Risc | J2: %Risc | K2: Acc | L2: Risc | M2: %Risc | N2: Acc | O2: Risc | P2: %Risc | Q2: Acc | R2: Risc | S2: %Risc | T2: Acc | U2: Risc | V2: %Risc | W2: Acc | X2: Risc | Y2: %Risc | Z2: Acc | AA2: Risc
A3: 100 Entrate correnti di natura tributaria, contributiva e perequativa | B3: 1.3731079e+09 | C3: 1.3025716e+09 | D3: =IF(B3>0,C3/B3*100,"-") -> 94.863022 | E3: 1.3725261e+09 | F3: 1.2241975e+09 | G3: =IF(E3>0,F3/E3*100,"-") -> 89.193019 | H3: 1.2967768e+09 | I3: 1.1320463e+09 | J3: =IF(H3>0,I3/H3*100,"-") -> 87.296927 | K3: 1.3896526e+09 | L3: 1.1143735e+09 | M3: =IF(K3>0,L3/K3*100,"-") -> 80.190797 | N3: 1.4522204e+09 | O3: 1.1638151e+09 | P3: =IF(N3>0,O3/N3*100,"-") -> 80.140396 | Q3: 1.4152144e+09 | R3: 1.252539e+09 | S3: =IF(Q3>0,R3/Q3*100,"-") -> 88.505245 | T3: 1.5148567e+09 | U3: 1.4460019e+09 | V3: =IF(T3>0,U3/T3*100,"-") -> 95.454694 | W3: 1.5711039e+09 | X3: 1.4417874e+09 | Y3: =IF(W3>0,X3/W3*100,"-") -> 91.769068 | Z3: =IF(T3>0,W3/T3*100-100,"-") -> 3.7130387 | AA3: =IF(U3>0,X3/U3*100-100,"-") -> -0.29145294
A4: 200 Trasferimenti correnti | B4: 1.4591617e+08 | C4: 1.1935554e+08 | D4: =IF(B4>0,C4/B4*100,"-") -> 81.797339 | E4: 1.5002876e+08 | F4: 1.109983e+08 | G4: =IF(E4>0,F4/E4*100,"-") -> 73.984681 | H4: 2.2430327e+08 | I4: 1.2955007e+08 | J4: =IF(H4>0,I4/H4*100,"-") -> 57.756658 | K4: 1.9515621e+08 | L4: 1.4441878e+08 | M4: =IF(K4>0,L4/K4*100,"-") -> 74.001635 | N4: 2.6551412e+08 | O4: 2.0659089e+08 | P4: =IF(N4>0,O4/N4*100,"-") -> 77.807873 | Q4: 2.6105265e+08 | R4: 1.8679995e+08 | S4: =IF(Q4>0,R4/Q4*100,"-") -> 71.556426 | T4: 3.9963932e+08 | U4: 3.1790694e+08 | V4: =IF(T4>0,U4/T4*100,"-") -> 79.548464 | W4: 4.4531493e+08 | X4: 3.3574325e+08 | Y4: =IF(W4>0,X4/W4*100,"-") -> 75.394563 | Z4: =IF(T4>0,W4/T4*100-100,"-") -> 11.429208 | AA4: =IF(U4>0,X4/U4*100-100,"-") -> 5.6105433
A5: 300 Entrate extratributarie | B5: 41646915 | C5: 28224458 | D5: =IF(B5>0,C5/B5*100,"-") -> 67.770824 | E5: 40291301 | F5: 25667623 | G5: =IF(E5>0,F5/E5*100,"-") -> 63.705122 | H5: 54107355 | I5: 49619286 | J5: =IF(H5>0,I5/H5*100,"-") -> 91.705252 | K5: 52298911 | L5: 22915861 | M5: =IF(K5>0,L5/K5*100,"-") -> 43.817091 | N5: 37134735 | O5: 24267286 | P5: =IF(N5>0,O5/N5*100,"-") -> 65.349291 | Q5: 29571492 | R5: 10493600 | S5: =IF(Q5>0,R5/Q5*100,"-") -> 35.485527 | T5: 27870926 | U5: 9202457.2 | V5: =IF(T5>0,U5/T5*100,"-") -> 33.018124 | W5: 40014700 | X5: 15345927 | Y5: =IF(W5>0,X5/W5*100,"-") -> 38.350724 | Z5: =IF(T5>0,W5/T5*100-100,"-") -> 43.571475 | AA5: =IF(U5>0,X5/U5*100-100,"-") -> 66.759017
A6: 401 Tributi in conto capitale | B6: 0 | C6: 0 | D6: =IF(B6>0,C6/B6*100,"-") -> - | E6: 0 | F6: 0 | G6: =IF(E6>0,F6/E6*100,"-") -> - | H6: 0 | I6: 0 | J6: =IF(H6>0,I6/H6*100,"-") -> - | K6: 0 | L6: 0 | M6: =IF(K6>0,L6/K6*100,"-") -> - | N6: 0 | O6: 0 | P6: =IF(N6>0,O6/N6*100,"-") -> - | Q6: 0 | R6: 0 | S6: =IF(Q6>0,R6/Q6*100,"-") -> - | T6: 0 | U6: 0 | V6: =IF(T6>0,U6/T6*100,"-") -> - | W6: 0 | X6: 0 | Y6: =IF(W6>0,X6/W6*100,"-") -> - | Z6: =IF(T6>0,W6/T6*100-100,"-") -> - | AA6: =IF(U6>0,X6/U6*100-100,"-") -> -
A7: 402 Contributi agli investimenti | B7: 1.8148214e+08 | C7: 81800351 | D7: =IF(B7>0,C7/B7*100,"-") -> 45.0735 | E7: 2.4252684e+08 | F7: 43704434 | G7: =IF(E7>0,F7/E7*100,"-") -> 18.020453 | H7: 4.1212007e+08 | I7: 9986125.9 | J7: =IF(H7>0,I7/H7*100,"-") -> 2.4231108 | K7: 3.3135257e+08 | L7: 60157022 | M7: =IF(K7>0,L7/K7*100,"-") -> 18.154989 | N7: 2.4714083e+08 | O7: 63115565 | P7: =IF(N7>0,O7/N7*100,"-") -> 25.538299 | Q7: 218629583 | R7: 37091822 | S7: =IF(Q7>0,R7/Q7*100,"-") -> 16.965601 | T7: 2.7812585e+08 | U7: 20902993 | V7: =IF(T7>0,U7/T7*100,"-") -> 7.5156599 | W7: 2.7643509e+08 | X7: 38102861 | Y7: =IF(W7>0,X7/W7*100,"-") -> 13.783656 | Z7: =IF(T7>0,W7/T7*100-100,"-") -> -0.60791162 | AA7: =IF(U7>0,X7/U7*100-100,"-") -> 82.284238
A8: 403 Altri trasferimenti in conto capitale | B8: 50232930 | C8: 38088046 | D8: =IF(B8>0,C8/B8*100,"-") -> 75.822863 | E8: 73673344 | F8: 42902622 | G8: =IF(E8>0,F8/E8*100,"-") -> 58.233574 | H8: 78157043 | I8: 57456170 | J8: =IF(H8>0,I8/H8*100,"-") -> 73.513746 | K8: 61156313 | L8: 42921282 | M8: =IF(K8>0,L8/K8*100,"-") -> 70.182913 | N8: 43431530 | O8: 28788618 | P8: =IF(N8>0,O8/N8*100,"-") -> 66.285065 | Q8: 70956779 | R8: 64396861 | S8: =IF(Q8>0,R8/Q8*100,"-") -> 90.755051 | T8: 49396483 | U8: 27902602 | V8: =IF(T8>0,U8/T8*100,"-") -> 56.487022 | W8: 46431811 | X8: 35779775 | Y8: =IF(W8>0,X8/W8*100,"-") -> 77.058754 | Z8: =IF(T8>0,W8/T8*100-100,"-") -> -6.001787 | AA8: =IF(U8>0,X8/U8*100-100,"-") -> 28.230961
A9: 404 Entrate da alienazione di beni materiali e immateriali | B9: 508519.56 | C9: 507414.07 | D9: =IF(B9>0,C9/B9*100,"-") -> 99.782606 | E9: 580234.74 | F9: 579129.25 | G9: =IF(E9>0,F9/E9*100,"-") -> 99.809475 | H9: 710491.89 | I9: 710491.89 | J9: =IF(H9>0,I9/H9*100,"-") -> 100 | K9: 236376 | L9: 234627.5 | M9: =IF(K9>0,L9/K9*100,"-") -> 99.260289 | N9: 137830.87 | O9: 136725.38 | P9: =IF(N9>0,O9/N9*100,"-") -> 99.197937 | Q9: 91392.65 | R9: 91392.65 | S9: =IF(Q9>0,R9/Q9*100,"-") -> 100 | T9: 286649.36 | U9: 286649.36 | V9: =IF(T9>0,U9/T9*100,"-") -> 100 | W9: 59227.9 | X9: 59227.9 | Y9: =IF(W9>0,X9/W9*100,"-") -> 100 | Z9: =IF(T9>0,W9/T9*100-100,"-") -> -79.337857 | AA9: =IF(U9>0,X9/U9*100-100,"-") -> -79.337857
A10: 405 Altre entrate in conto capitale | B10: 654822.47 | C10: 654822.47 | D10: =IF(B10>0,C10/B10*100,"-") -> 100 | E10: 270697.95 | F10: 270697.95 | G10: =IF(E10>0,F10/E10*100,"-") -> 100 | H10: 1149.45 | I10: 1149.45 | J10: =IF(H10>0,I10/H10*100,"-") -> 100 | K10: 0 | L10: 0 | M10: =IF(K10>0,L10/K10*100,"-") -> - | N10: 0 | O10: 0 | P10: =IF(N10>0,O10/N10*100,"-") -> - | Q10: 0 | R10: 0 | S10: =IF(Q10>0,R10/Q10*100,"-") -> - | T10: 0 | U10: 0 | V10: =IF(T10>0,U10/T10*100,"-") -> - | W10: 0 | X10: 0 | Y10: =IF(W10>0,X10/W10*100,"-") -> - | Z10: =IF(T10>0,W10/T10*100-100,"-") -> - | AA10: =IF(U10>0,X10/U10*100-100,"-") -> -
A11: 501 Alienazione di attività finanziarie | B11: 0 | C11: 0 | D11: =IF(B11>0,C11/B11*100,"-") -> - | E11: 0 | F11: 0 | G11: =IF(E11>0,F11/E11*100,"-") -> - | H11: 0 | I11: 0 | J11: =IF(H11>0,I11/H11*100,"-") -> - | K11: 0 | L11: 0 | M11: =IF(K11>0,L11/K11*100,"-") -> - | N11: 0 | O11: 0 | P11: =IF(N11>0,O11/N11*100,"-") -> - | Q11: 0 | R11: 0 | S11: =IF(Q11>0,R11/Q11*100,"-") -> - | T11: 0 | U11: 0 | V11: =IF(T11>0,U11/T11*100,"-") -> - | W11: 0 | X11: 0 | Y11: =IF(W11>0,X11/W11*100,"-") -> - | Z11: =IF(T11>0,W11/T11*100-100,"-") -> - | AA11: =IF(U11>0,X11/U11*100-100,"-") -> -
A12: 502_3 Riscossione di crediti | B12: 0 | C12: 0 | D12: =IF(B12>0,C12/B12*100,"-") -> - | E12: 0 | F12: 0 | G12: =IF(E12>0,F12/E12*100,"-") -> - | H12: 0 | I12: 0 | J12: =IF(H12>0,I12/H12*100,"-") -> - | K12: 0 | L12: 0 | M12: =IF(K12>0,L12/K12*100,"-") -> - | N12: 0 | O12: 0 | P12: =IF(N12>0,O12/N12*100,"-") -> - | Q12: 0 | R12: 0 | S12: =IF(Q12>0,R12/Q12*100,"-") -> - | T12: 0 | U12: 0 | V12: =IF(T12>0,U12/T12*100,"-") -> - | W12: 0 | X12: 0 | Y12: =IF(W12>0,X12/W12*100,"-") -> - | Z12: =IF(T12>0,W12/T12*100-100,"-") -> - | AA12: =IF(U12>0,X12/U12*100-100,"-") -> -
A13: 504 Altre entrate per riduzione di attività finanziarie | B13: 37699095 | C13: 0 | D13: =IF(B13>0,C13/B13*100,"-") -> 0 | E13: 18854037 | F13: 0 | G13: =IF(E13>0,F13/E13*100,"-") -> 0 | H13: 30249929 | I13: 19377065 | J13: =IF(H13>0,I13/H13*100,"-") -> 64.056563 | K13: 1.9331286e+08 | L13: 99127136 | M13: =IF(K13>0,L13/K13*100,"-") -> 51.278087 | N13: 1.7889151e+08 | O13: 14184086 | P13: =IF(N13>0,O13/N13*100,"-") -> 7.9288757 | Q13: 76874076 | R13: 0 | S13: =IF(Q13>0,R13/Q13*100,"-") -> 0 | T13: 34525947 | U13: 0 | V13: =IF(T13>0,U13/T13*100,"-") -> 0 | W13: 33566708 | X13: 50 | Y13: =IF(W13>0,X13/W13*100,"-") -> 0.00014895711 | Z13: =IF(T13>0,W13/T13*100-100,"-") -> -2.7783136 | AA13: =IF(U13>0,X13/U13*100-100,"-") -> -
A14: - Entrate correnti | B14: =SUM(B3:B5) -> 1.560671e+09 | C14: =SUM(C3:C5) -> 1.4501516e+09 | D14: =IF(B14>0,C14/B14*100,"-") -> 92.918473 | E14: =SUM(E3:E5) -> 1.5628462e+09 | F14: =SUM(F3:F5) -> 1.3608634e+09 | G14: =IF(E14>0,F14/E14*100,"-") -> 87.075965 | H14: =SUM(H3:H5) -> 1.5751874e+09 | I14: =SUM(I3:I5) -> 1.3112156e+09 | J14: =IF(H14>0,I14/H14*100,"-") -> 83.241882 | K14: =SUM(K3:K5) -> 1.6371078e+09 | L14: =SUM(L3:L5) -> 1.2817082e+09 | M14: =IF(K14>0,L14/K14*100,"-") -> 78.291008 | N14: =SUM(N3:N5) -> 1.7548692e+09 | O14: =SUM(O3:O5) -> 1.3946733e+09 | P14: =IF(N14>0,O14/N14*100,"-") -> 79.474488 | Q14: =SUM(Q3:Q5) -> 1.7058386e+09 | R14: =SUM(R3:R5) -> 1.4498325e+09 | S14: =IF(Q14>0,R14/Q14*100,"-") -> 84.992365 | T14: =SUM(T3:T5) -> 1.942367e+09 | U14: =SUM(U3:U5) -> 1.7731113e+09 | V14: =IF(T14>0,U14/T14*100,"-") -> 91.28611 | W14: =SUM(W3:W5) -> 2.0564336e+09 | X14: =SUM(X3:X5) -> 1.7928766e+09 | Y14: =IF(W14>0,X14/W14*100,"-") -> 87.183785 | Z14: =IF(T14>0,W14/T14*100-100,"-") -> 5.8725566 | AA14: =IF(U14>0,X14/U14*100-100,"-") -> 1.1147277
A15: - Entrate in conto capitale | B15: =SUM(B6:B10) -> 2.3287841e+08 | C15: =SUM(C6:C10) -> 1.2105063e+08 | D15: =IF(B15>0,C15/B15*100,"-") -> 51.980187 | E15: =SUM(E6:E10) -> 3.1705112e+08 | F15: =SUM(F6:F10) -> 87456883 | G15: =IF(E15>0,F15/E15*100,"-") -> 27.584474 | H15: =SUM(H6:H10) -> 4.9098876e+08 | I15: =SUM(I6:I10) -> 68153937 | J15: =IF(H15>0,I15/H15*100,"-") -> 13.880957 | K15: =SUM(K6:K10) -> 3.9274526e+08 | L15: =SUM(L6:L10) -> 1.0331293e+08 | M15: =IF(K15>0,L15/K15*100,"-") -> 26.305329 | N15: =SUM(N6:N10) -> 2.9071019e+08 | O15: =SUM(O6:O10) -> 92040908 | P15: =IF(N15>0,O15/N15*100,"-") -> 31.660709 | Q15: =SUM(Q6:Q10) -> 2.8967775e+08 | R15: =SUM(R6:R10) -> 1.0158008e+08 | S15: =IF(Q15>0,R15/Q15*100,"-") -> 35.066578 | T15: =SUM(T6:T10) -> 3.2780898e+08 | U15: =SUM(U6:U10) -> 49092244 | V15: =IF(T15>0,U15/T15*100,"-") -> 14.975869 | W15: =SUM(W6:W10) -> 3.2292613e+08 | X15: =SUM(X6:X10) -> 73941864 | Y15: =IF(W15>0,X15/W15*100,"-") -> 22.897455 | Z15: =IF(T15>0,W15/T15*100-100,"-") -> -1.489542 | AA15: =IF(U15>0,X15/U15*100-100,"-") -> 50.618219
A16: - Entrate da riduzione attività finanziarie | B16: =SUM(B11:B13) -> 37699095 | C16: =SUM(C11:C13) -> 0 | D16: =IF(B16>0,C16/B16*100,"-") -> 0 | E16: =SUM(E11:E13) -> 18854037 | F16: =SUM(F11:F13) -> 0 | G16: =IF(E16>0,F16/E16*100,"-") -> 0 | H16: =SUM(H11:H13) -> 30249929 | I16: =SUM(I11:I13) -> 19377065 | J16: =IF(H16>0,I16/H16*100,"-") -> 64.056563 | K16: =SUM(K11:K13) -> 1.9331286e+08 | L16: =SUM(L11:L13) -> 99127136 | M16: =IF(K16>0,L16/K16*100,"-") -> 51.278087 | N16: =SUM(N11:N13) -> 1.7889151e+08 | O16: =SUM(O11:O13) -> 14184086 | P16: =IF(N16>0,O16/N16*100,"-") -> 7.9288757 | Q16: =SUM(Q11:Q13) -> 76874076 | R16: =SUM(R11:R13) -> 0 | S16: =IF(Q16>0,R16/Q16*100,"-") -> 0 | T16: =SUM(T11:T13) -> 34525947 | U16: =SUM(U11:U13) -> 0 | V16: =IF(T16>0,U16/T16*100,"-") -> 0 | W16: =SUM(W11:W13) -> 33566708 | X16: =SUM(X11:X13) -> 50 | Y16: =IF(W16>0,X16/W16*100,"-") -> 0.00014895711 | Z16: =IF(T16>0,W16/T16*100-100,"-") -> -2.7783136 | AA16: =IF(U16>0,X16/U16*100-100,"-") -> -
A17: - Accensione di prestiti | B17: 0 | C17: 0 | D17: =IF(B17>0,C17/B17*100,"-") -> - | E17: 34416029 | F17: 10488083 | G17: =IF(E17>0,F17/E17*100,"-") -> 30.474415 | H17: 16816369 | I17: 0 | J17: =IF(H17>0,I17/H17*100,"-") -> 0 | K17: 0 | L17: 0 | M17: =IF(K17>0,L17/K17*100,"-") -> - | N17: 0 | O17: 0 | P17: =IF(N17>0,O17/N17*100,"-") -> - | Q17: 0 | R17: 0 | S17: =IF(Q17>0,R17/Q17*100,"-") -> - | T17: 0 | U17: 0 | V17: =IF(T17>0,U17/T17*100,"-") -> - | W17: 0 | X17: 0 | Y17: =IF(W17>0,X17/W17*100,"-") -> - | Z17: =IF(T17>0,W17/T17*100-100,"-") -> - | AA17: =IF(U17>0,X17/U17*100-100,"-") -> -
A18: - Anticipazioni da istituto tesoriere/cassiere | B18: 0 | C18: 0 | D18: =IF(B18>0,C18/B18*100,"-") -> - | E18: 0 | F18: 0 | G18: =IF(E18>0,F18/E18*100,"-") -> - | H18: 0 | I18: 0 | J18: =IF(H18>0,I18/H18*100,"-") -> - | K18: 0 | L18: 0 | M18: =IF(K18>0,L18/K18*100,"-") -> - | N18: 0 | O18: 0 | P18: =IF(N18>0,O18/N18*100,"-") -> - | Q18: 0 | R18: 0 | S18: =IF(Q18>0,R18/Q18*100,"-") -> - | T18: 0 | U18: 0 | V18: =IF(T18>0,U18/T18*100,"-") -> - | W18: 0 | X18: 0 | Y18: =IF(W18>0,X18/W18*100,"-") -> - | Z18: =IF(T18>0,W18/T18*100-100,"-") -> - | AA18: =IF(U18>0,X18/U18*100-100,"-") -> -
A19: - Entrate per conto terzi e partite di giro | B19: 2.6858056e+08 | C19: 2.3635541e+08 | D19: =IF(B19>0,C19/B19*100,"-") -> 88.001683 | E19: 1.835963e+08 | F19: 1.7680776e+08 | G19: =IF(E19>0,F19/E19*100,"-") -> 96.302462 | H19: 1.6224292e+08 | I19: 1.5211888e+08 | J19: =IF(H19>0,I19/H19*100,"-") -> 93.759953 | K19: 2.3152848e+08 | L19: 2.2553979e+08 | M19: =IF(K19>0,L19/K19*100,"-") -> 97.413411 | N19: 2.2254321e+08 | O19: 2.1913331e+08 | P19: =IF(N19>0,O19/N19*100,"-") -> 98.467758 | Q19: 1.4714554e+08 | R19: 1.4710442e+08 | S19: =IF(Q19>0,R19/Q19*100,"-") -> 99.972049 | T19: 1.3345756e+08 | U19: 1.3342634e+08 | V19: =IF(T19>0,U19/T19*100,"-") -> 99.976612 | W19: 1.704603e+08 | X19: 1.6933486e+08 | Y19: =IF(W19>0,X19/W19*100,"-") -> 99.339764 | Z19: =IF(T19>0,W19/T19*100-100,"-") -> 27.726225 | AA19: =IF(U19>0,X19/U19*100-100,"-") -> 26.912613
A20: Totale Entrate | B20: =B14+B15+B16+B17+B18+B19 -> 2.099829e+09 | C20: =C14+C15+C16+C17+C18+C19 -> 1.8075577e+09 | D20: =IF(B20>0,C20/B20*100,"-") -> 86.081183 | E20: =E14+E15+E16+E17+E18+E19 -> 2.1167636e+09 | F20: =F14+F15+F16+F17+F18+F19 -> 1.6356161e+09 | G20: =IF(E20>0,F20/E20*100,"-") -> 77.269662 | H20: =H14+H15+H16+H17+H18+H19 -> 2.2754854e+09 | I20: =I14+I15+I16+I17+I18+I19 -> 1.5508655e+09 | J20: =IF(H20>0,I20/H20*100,"-") -> 68.155372 | K20: =K14+K15+K16+K17+K18+K19 -> 2.4546944e+09 | L20: =L14+L15+L16+L17+L18+L19 -> 1.709688e+09 | M20: =IF(K20>0,L20/K20*100,"-") -> 69.649732 | N20: =N14+N15+N16+N17+N18+N19 -> 2.4470141e+09 | O20: =O14+O15+O16+O17+O18+O19 -> 1.7200316e+09 | P20: =IF(N20>0,O20/N20*100,"-") -> 70.291038 | Q20: =Q14+Q15+Q16+Q17+Q18+Q19 -> 2.2195359e+09 | R20: =R14+R15+R16+R17+R18+R19 -> 1.698517e+09 | S20: =IF(Q20>0,R20/Q20*100,"-") -> 76.525773 | T20: =T14+T15+T16+T17+T18+T19 -> 2.4381595e+09 | U20: =U14+U15+U16+U17+U18+U19 -> 1.9556298e+09 | V20: =IF(T20>0,U20/T20*100,"-") -> 80.209268 | W20: =W14+W15+W16+W17+W18+W19 -> 2.5833867e+09 | X20: =X14+X15+X16+X17+X18+X19 -> 2.0361534e+09 | Y20: =IF(W20>0,X20/W20*100,"-") -> 78.817213 | Z20: =IF(T20>0,W20/T20*100-100,"-") -> 5.9564296 | AA20: =IF(U20>0,X20/U20*100-100,"-") -> 4.117525
A21: Entrate nette | B21: =B20-B19 -> 1.8312485e+09 | C21: =C20-C19 -> 1.5712023e+09 | D21: =IF(B21>0,C21/B21*100,"-") -> 85.799513 | E21: =E20-E19 -> 1.9331673e+09 | F21: =F20-F19 -> 1.4588083e+09 | G21: =IF(E21>0,F21/E21*100,"-") -> 75.462083 | H21: =H20-H19 -> 2.1132425e+09 | I21: =I20-I19 -> 1.3987467e+09 | J21: =IF(H21>0,I21/H21*100,"-") -> 66.189596 | K21: =K20-K19 -> 2.2231659e+09 | L21: =L20-L19 -> 1.4841482e+09 | M21: =IF(K21>0,L21/K21*100,"-") -> 66.758322 | N21: =N20-N19 -> 2.2244709e+09 | O21: =O20-O19 -> 1.5008983e+09 | P21: =IF(N21>0,O21/N21*100,"-") -> 67.472148 | Q21: =Q20-Q19 -> 2.0723904e+09 | R21: =R20-R19 -> 1.5514126e+09 | S21: =IF(Q21>0,R21/Q21*100,"-") -> 74.861021 | T21: =T20-T19 -> 2.3047019e+09 | U21: =U20-U19 -> 1.8222035e+09 | V21: =IF(T21>0,U21/T21*100,"-") -> 79.064607 | W21: =W20-W19 -> 2.4129264e+09 | X21: =X20-X19 -> 1.8668185e+09 | Y21: =IF(W21>0,X21/W21*100,"-") -> 77.367404 | Z21: =IF(T21>0,W21/T21*100-100,"-") -> 4.6958137 | AA21: =IF(U21>0,X21/U21*100-100,"-") -> 2.448411
B22: Imp | C22: Pag | E22: Imp | F22: Pag | H22: Imp | I22: Pag | K22: Imp | L22: Pag | N22: Imp | O22: Pag | Q22: Imp | R22: Pag | T22: Imp | U22: Pag | W22: Imp | X22: Pag
A23: 101 REDDITI DA LAVORO DIPENDENTE | B23: 59880139 | C23: 54264252 | D23: =IF(B23>0,C23/B23*100,"-") -> 90.621453 | E23: 59676308 | F23: 57090574 | G23: =IF(E23>0,F23/E23*100,"-") -> 95.667067 | H23: 66884562 | I23: 66771815 | J23: =IF(H23>0,I23/H23*100,"-") -> 99.831431 | K23: 69944914 | L23: 66291179 | M23: =IF(K23>0,L23/K23*100,"-") -> 94.776268 | N23: 59827641 | O23: 58606420 | P23: =IF(N23>0,O23/N23*100,"-") -> 97.958767 | Q23: 54158488 | R23: 51239299 | S23: =IF(Q23>0,R23/Q23*100,"-") -> 94.609914 | T23: 52109911 | U23: 50448972 | V23: =IF(T23>0,U23/T23*100,"-") -> 96.812622 | W23: 51017417 | X23: 50626822 | Y23: =IF(W23>0,X23/W23*100,"-") -> 99.234389 | Z23: =IF(T23>0,W23/T23*100-100,"-") -> -2.0965189 | AA23: =IF(U23>0,X23/U23*100-100,"-") -> 0.35253579
A24: 102 IMPOSTE E TASSE A CARICO DELL'ENTE | B24: 4613627 | C24: 4201220.3 | D24: =IF(B24>0,C24/B24*100,"-") -> 91.061116 | E24: 5070057.6 | F24: 4619640 | G24: =IF(E24>0,F24/E24*100,"-") -> 91.116124 | H24: 4691335.2 | I24: 4691335.2 | J24: =IF(H24>0,I24/H24*100,"-") -> 100 | K24: 5575455.6 | L24: 5575455.6 | M24: =IF(K24>0,L24/K24*100,"-") -> 100 | N24: 5068312 | O24: 5068312 | P24: =IF(N24>0,O24/N24*100,"-") -> 100 | Q24: 4335491.5 | R24: 4335491.5 | S24: =IF(Q24>0,R24/Q24*100,"-") -> 100 | T24: 4760908.2 | U24: 4744335.9 | V24: =IF(T24>0,U24/T24*100,"-") -> 99.651908 | W24: 5383142.3 | X24: 5361135.2 | Y24: =IF(W24>0,X24/W24*100,"-") -> 99.591185 | Z24: =IF(T24>0,W24/T24*100-100,"-") -> 13.069649 | AA24: =IF(U24>0,X24/U24*100-100,"-") -> 13.00075
A25: 103 ACQUISTO DI BENI E SERVIZI | B25: 71686425 | C25: 65833657 | D25: =IF(B25>0,C25/B25*100,"-") -> 91.835597 | E25: 85225046 | F25: 72704289 | G25: =IF(E25>0,F25/E25*100,"-") -> 85.308594 | H25: 97382478 | I25: 90382951 | J25: =IF(H25>0,I25/H25*100,"-") -> 92.812335 | K25: 1.1154938e+08 | L25: 98412409 | M25: =IF(K25>0,L25/K25*100,"-") -> 88.223178 | N25: 70905699 | O25: 62369084 | P25: =IF(N25>0,O25/N25*100,"-") -> 87.960607 | Q25: 88262410 | R25: 73883360 | S25: =IF(Q25>0,R25/Q25*100,"-") -> 83.70875 | T25: 1.1832386e+08 | U25: 92420235 | V25: =IF(T25>0,U25/T25*100,"-") -> 78.107859 | W25: 1.1458979e+08 | X25: 97817531 | Y25: =IF(W25>0,X25/W25*100,"-") -> 85.363214 | Z25: =IF(T25>0,W25/T25*100-100,"-") -> -3.1558022 | AA25: =IF(U25>0,X25/U25*100-100,"-") -> 5.8399504
A26: 104 TRASFERIMENTI CORRENTI | B26: 1.2505685e+09 | C26: 1.1762542e+09 | D26: =IF(B26>0,C26/B26*100,"-") -> 94.05756 | E26: 1.3106655e+09 | F26: 1.1800685e+09 | G26: =IF(E26>0,F26/E26*100,"-") -> 90.035824 | H26: 1.280618e+09 | I26: 1.2178626e+09 | J26: =IF(H26>0,I26/H26*100,"-") -> 95.099601 | K26: 1.3043501e+09 | L26: 1.2225499e+09 | M26: =IF(K26>0,L26/K26*100,"-") -> 93.728665 | N26: 1.4150516e+09 | O26: 1.3470876e+09 | P26: =IF(N26>0,O26/N26*100,"-") -> 95.197068 | Q26: 1.3918323e+09 | R26: 1314191340 | S26: =IF(Q26>0,R26/Q26*100,"-") -> 94.421675 | T26: 1.519386e+09 | U26: 1.399385e+09 | V26: =IF(T26>0,U26/T26*100,"-") -> 92.102004 | W26: 1.6517484e+09 | X26: 1.5576697e+09 | Y26: =IF(W26>0,X26/W26*100,"-") -> 94.304297 | Z26: =IF(T26>0,W26/T26*100-100,"-") -> 8.7115658 | AA26: =IF(U26>0,X26/U26*100-100,"-") -> 11.311018
A27: 105 TRASFERIMENTI DI TRIBUTI | B27: 0 | C27: 0 | E27: 0 | F27: 0 | H27: 0 | I27: 0 | K27: 0 | L27: 0 | N27: 0 | O27: 0 | Q27: 0 | R27: 0 | T27: 0 | U27: 0 | W27: 0 | X27: 0 | Z27: =IF(T27>0,W27/T27*100-100,"-") -> - | AA27: =IF(U27>0,X27/U27*100-100,"-") -> -
A28: 106 FONDI PEREQUATIVI | B28: 0 | C28: 0 | E28: 0 | F28: 0 | H28: 0 | I28: 0 | K28: 0 | L28: 0 | N28: 0 | O28: 0 | Q28: 0 | R28: 0 | T28: 0 | U28: 0 | W28: 0 | X28: 0 | Z28: =IF(T28>0,W28/T28*100-100,"-") -> - | AA28: =IF(U28>0,X28/U28*100-100,"-") -> -
A29: 107 INTERESSI PASSIVI | B29: 7260057.8 | C29: 7260057.8 | D29: =IF(B29>0,C29/B29*100,"-") -> 100 | E29: 6235613.7 | F29: 6235613.7 | G29: =IF(E29>0,F29/E29*100,"-") -> 100 | H29: 7320424.3 | I29: 7320424.3 | J29: =IF(H29>0,I29/H29*100,"-") -> 100 | K29: 5765523.7 | L29: 5765523.7 | M29: =IF(K29>0,L29/K29*100,"-") -> 100 | N29: 6225752.9 | O29: 6225752.9 | P29: =IF(N29>0,O29/N29*100,"-") -> 100 | Q29: 5996977 | R29: 5996977 | S29: =IF(Q29>0,R29/Q29*100,"-") -> 100 | T29: 6457027.2 | U29: 6457027.2 | V29: =IF(T29>0,U29/T29*100,"-") -> 100 | W29: 7413198.2 | X29: 7413198.2 | Y29: =IF(W29>0,X29/W29*100,"-") -> 100 | Z29: =IF(T29>0,W29/T29*100-100,"-") -> 14.808224 | AA29: =IF(U29>0,X29/U29*100-100,"-") -> 14.808224
A30: 108 ALTRE SPESE PER REDDITI DA CAPITALE | B30: 0 | C30: 0 | D30: =IF(B30>0,C30/B30*100,"-") -> - | E30: 0 | F30: 0 | G30: =IF(E30>0,F30/E30*100,"-") -> - | H30: 0 | I30: 0 | J30: =IF(H30>0,I30/H30*100,"-") -> - | K30: 0 | L30: 0 | M30: =IF(K30>0,L30/K30*100,"-") -> - | N30: 0 | O30: 0 | P30: =IF(N30>0,O30/N30*100,"-") -> - | Q30: 0 | R30: 0 | S30: =IF(Q30>0,R30/Q30*100,"-") -> - | T30: 0 | U30: 0 | V30: =IF(T30>0,U30/T30*100,"-") -> - | W30: 0 | X30: 0 | Y30: =IF(W30>0,X30/W30*100,"-") -> - | Z30: =IF(T30>0,W30/T30*100-100,"-") -> - | AA30: =IF(U30>0,X30/U30*100-100,"-") -> -
A31: 109 RIMBORSI E POSTE CORRETTIVE DELLE ENTRATE | B31: 693609.14 | C31: 672809.14 | D31: =IF(B31>0,C31/B31*100,"-") -> 97.001193 | E31: 980208.32 | F31: 936729.18 | G31: =IF(E31>0,F31/E31*100,"-") -> 95.564296 | H31: 942554.58 | I31: 743592.33 | J31: =IF(H31>0,I31/H31*100,"-") -> 78.891169 | K31: 655190.39 | L31: 643150.54 | M31: =IF(K31>0,L31/K31*100,"-") -> 98.162389 | N31: 493423.08 | O31: 453449.35 | P31: =IF(N31>0,O31/N31*100,"-") -> 91.898691 | Q31: 533564.43 | R31: 518240.43 | S31: =IF(Q31>0,R31/Q31*100,"-") -> 97.127994 | T31: 467639.75 | U31: 467639.75 | V31: =IF(T31>0,U31/T31*100,"-") -> 100 | W31: 10482062 | X31: 10482062 | Y31: =IF(W31>0,X31/W31*100,"-") -> 100 | Z31: =IF(T31>0,W31/T31*100-100,"-") -> 2141.4824 | AA31: =IF(U31>0,X31/U31*100-100,"-") -> 2141.4824
A32: 110 ALTRE SPESE CORRENTI | B32: 1160371.6 | C32: 1160154.3 | D32: =IF(B32>0,C32/B32*100,"-") -> 99.981269 | E32: 854691.95 | F32: 825624.7 | G32: =IF(E32>0,F32/E32*100,"-") -> 96.599096 | H32: 708127.79 | I32: 699788.41 | J32: =IF(H32>0,I32/H32*100,"-") -> 98.822334 | K32: 2979154.5 | L32: 2901799.8 | M32: =IF(K32>0,L32/K32*100,"-") -> 97.403467 | N32: 29372492 | O32: 29368039 | P32: =IF(N32>0,O32/N32*100,"-") -> 99.98484 | Q32: 7363288.1 | R32: 7287437.8 | S32: =IF(Q32>0,R32/Q32*100,"-") -> 98.969886 | T32: 7587301.2 | U32: 1448396.5 | V32: =IF(T32>0,U32/T32*100,"-") -> 19.089746 | W32: 25439021 | X32: 17960576 | Y32: =IF(W32>0,X32/W32*100,"-") -> 70.602464 | Z32: =IF(T32>0,W32/T32*100-100,"-") -> 235.28419 | AA32: =IF(U32>0,X32/U32*100-100,"-") -> 1140.0317
A33: 201 TRIBUTI IN CONTO CAPITALE A CARICO DELL?ENTE | B33: 0 | C33: 0 | D33: =IF(B33>0,C33/B33*100,"-") -> - | E33: 0 | F33: 0 | G33: =IF(E33>0,F33/E33*100,"-") -> - | H33: 0 | I33: 0 | J33: =IF(H33>0,I33/H33*100,"-") -> - | K33: 0 | L33: 0 | M33: =IF(K33>0,L33/K33*100,"-") -> - | N33: 0 | O33: 0 | P33: =IF(N33>0,O33/N33*100,"-") -> - | Q33: 0 | R33: 0 | S33: =IF(Q33>0,R33/Q33*100,"-") -> - | T33: 0 | U33: 0 | V33: =IF(T33>0,U33/T33*100,"-") -> - | W33: 0 | X33: 0 | Y33: =IF(W33>0,X33/W33*100,"-") -> - | Z33: =IF(T33>0,W33/T33*100-100,"-") -> - | AA33: =IF(U33>0,X33/U33*100-100,"-") -> -
A34: 202 INVESTIMENTI FISSI LORDI E ACQUISTO DI TERRENI | B34: 20715679 | C34: 17980397 | D34: =IF(B34>0,C34/B34*100,"-") -> 86.79608 | E34: 48956619 | F34: 45773029 | G34: =IF(E34>0,F34/E34*100,"-") -> 93.497121 | H34: 19010628 | I34: 17264786 | J34: =IF(H34>0,I34/H34*100,"-") -> 90.816499 | K34: 20063614 | L34: 18777758 | M34: =IF(K34>0,L34/K34*100,"-") -> 93.591101 | N34: 26755513 | O34: 7158774.2 | P34: =IF(N34>0,O34/N34*100,"-") -> 26.756259 | Q34: 11978136 | R34: 5728727.6 | S34: =IF(Q34>0,R34/Q34*100,"-") -> 47.826536 | T34: 8100620.2 | U34: 5384550.9 | V34: =IF(T34>0,U34/T34*100,"-") -> 66.470848 | W34: 12639077 | X34: 9404816.3 | Y34: =IF(W34>0,X34/W34*100,"-") -> 74.410628 | Z34: =IF(T34>0,W34/T34*100-100,"-") -> 56.026036 | AA34: =IF(U34>0,X34/U34*100-100,"-") -> 74.662966
A35: 203 CONTRIBUTI AGLI INVESTIMENTI | B35: 2.8538949e+08 | C35: 2.1563072e+08 | D35: =IF(B35>0,C35/B35*100,"-") -> 75.556644 | E35: 3.0436993e+08 | F35: 2.0820268e+08 | G35: =IF(E35>0,F35/E35*100,"-") -> 68.404483 | H35: 4.135905e+08 | I35: 2.5593427e+08 | J35: =IF(H35>0,I35/H35*100,"-") -> 61.88108 | K35: 2.7014786e+08 | L35: 1.7670073e+08 | M35: =IF(K35>0,L35/K35*100,"-") -> 65.408896 | N35: 4.1279557e+08 | O35: 2.2844654e+08 | P35: =IF(N35>0,O35/N35*100,"-") -> 55.341326 | Q35: 3.2306863e+08 | R35: 1.8568678e+08 | S35: =IF(Q35>0,R35/Q35*100,"-") -> 57.475956 | T35: 3.7797894e+08 | U35: 1.9341989e+08 | V35: =IF(T35>0,U35/T35*100,"-") -> 51.172134 | W35: 3.7084138e+08 | X35: 2.6422365e+08 | Y35: =IF(W35>0,X35/W35*100,"-") -> 71.249775 | Z35: =IF(T35>0,W35/T35*100-100,"-") -> -1.8883502 | AA35: =IF(U35>0,X35/U35*100-100,"-") -> 36.606244
A36: 204ALTRI TRASFERIMENTI IN CONTO CAPITALE | B36: 60927783 | C36: 50024919 | D36: =IF(B36>0,C36/B36*100,"-") -> 82.105267 | E36: 66181516 | F36: 51456384 | G36: =IF(E36>0,F36/E36*100,"-") -> 77.750385 | H36: 54800895 | I36: 40814516 | J36: =IF(H36>0,I36/H36*100,"-") -> 74.477827 | K36: 43404967 | L36: 33020367 | M36: =IF(K36>0,L36/K36*100,"-") -> 76.075088 | N36: 39533564 | O36: 27153783 | P36: =IF(N36>0,O36/N36*100,"-") -> 68.685391 | Q36: 27073900 | R36: 22905032 | S36: =IF(Q36>0,R36/Q36*100,"-") -> 84.601893 | T36: 13931892 | U36: 11697436 | V36: =IF(T36>0,U36/T36*100,"-") -> 83.96157 | W36: 47022494 | X36: 25547314 | Y36: =IF(W36>0,X36/W36*100,"-") -> 54.329985 | Z36: =IF(T36>0,W36/T36*100-100,"-") -> 237.51692 | AA36: =IF(U36>0,X36/U36*100-100,"-") -> 118.40098
A37: 205ALTRE SPESE IN CONTO CAPITALE | B37: 108167.4 | C37: 108167.4 | D37: =IF(B37>0,C37/B37*100,"-") -> 100 | E37: 3000000 | F37: 0 | G37: =IF(E37>0,F37/E37*100,"-") -> 0 | H37: 0 | I37: 0 | J37: =IF(H37>0,I37/H37*100,"-") -> - | K37: 2999.99 | L37: 2999.99 | M37: =IF(K37>0,L37/K37*100,"-") -> 100 | N37: 25293.53 | O37: 25293.53 | P37: =IF(N37>0,O37/N37*100,"-") -> 100 | Q37: 0 | R37: 0 | S37: =IF(Q37>0,R37/Q37*100,"-") -> - | T37: 23347.87 | U37: 0 | V37: =IF(T37>0,U37/T37*100,"-") -> 0 | W37: 0 | X37: 0 | Y37: =IF(W37>0,X37/W37*100,"-") -> - | Z37: =IF(T37>0,W37/T37*100-100,"-") -> -100 | AA37: =IF(U37>0,X37/U37*100-100,"-") -> -
A38: 301 ACQUISIZIONI DI ATTIVITA' FINANZIARIE | B38: 5300000 | C38: 5300000 | D38: =IF(B38>0,C38/B38*100,"-") -> 100 | E38: 688458.83 | F38: 688458.83 | G38: =IF(E38>0,F38/E38*100,"-") -> 100 | H38: 0 | I38: 0 | J38: =IF(H38>0,I38/H38*100,"-") -> - | K38: 34214.11 | L38: 34214.11 | M38: =IF(K38>0,L38/K38*100,"-") -> 100 | N38: 0 | O38: 0 | P38: =IF(N38>0,O38/N38*100,"-") -> - | Q38: 5000000 | R38: 5000000 | S38: =IF(Q38>0,R38/Q38*100,"-") -> 100 | T38: 0 | U38: 0 | V38: =IF(T38>0,U38/T38*100,"-") -> - | W38: 0 | X38: 0 | Y38: =IF(W38>0,X38/W38*100,"-") -> - | Z38: =IF(T38>0,W38/T38*100-100,"-") -> - | AA38: =IF(U38>0,X38/U38*100-100,"-") -> -
A39: 302 CONCESSIONE CREDITI DI BREVE TERMINE | B39: 0 | C39: 0 | D39: =IF(B39>0,C39/B39*100,"-") -> - | E39: 0 | F39: 0 | G39: =IF(E39>0,F39/E39*100,"-") -> - | H39: 0 | I39: 0 | J39: =IF(H39>0,I39/H39*100,"-") -> - | K39: 0 | L39: 0 | M39: =IF(K39>0,L39/K39*100,"-") -> - | N39: 0 | O39: 0 | P39: =IF(N39>0,O39/N39*100,"-") -> - | Q39: 0 | R39: 0 | S39: =IF(Q39>0,R39/Q39*100,"-") -> - | T39: 0 | U39: 0 | V39: =IF(T39>0,U39/T39*100,"-") -> - | W39: 0 | X39: 0 | Y39: =IF(W39>0,X39/W39*100,"-") -> - | Z39: =IF(T39>0,W39/T39*100-100,"-") -> - | AA39: =IF(U39>0,X39/U39*100-100,"-") -> -
A40: 303 CONCESSIONE CREDITI DI MEDIO-LUNGO TERMINE | B40: 0 | C40: 0 | D40: =IF(B40>0,C40/B40*100,"-") -> - | E40: 0 | F40: 0 | G40: =IF(E40>0,F40/E40*100,"-") -> - | H40: 0 | I40: 0 | J40: =IF(H40>0,I40/H40*100,"-") -> - | K40: 0 | L40: 0 | M40: =IF(K40>0,L40/K40*100,"-") -> - | N40: 0 | O40: 0 | P40: =IF(N40>0,O40/N40*100,"-") -> - | Q40: 0 | R40: 0 | S40: =IF(Q40>0,R40/Q40*100,"-") -> - | T40: 0 | U40: 0 | V40: =IF(T40>0,U40/T40*100,"-") -> - | W40: 0 | X40: 0 | Y40: =IF(W40>0,X40/W40*100,"-") -> - | Z40: =IF(T40>0,W40/T40*100-100,"-") -> - | AA40: =IF(U40>0,X40/U40*100-100,"-") -> -
...

Sheet Tav_Entrate
B1: 2016 | C1: 2017 | D1: 2018 | E1: 2019 | F1: 2020 | G1: 2021 | H1: 2022 | I1: 2023 | J1: Comp.% netta | K1: Var. % | L1: Riscossioni 2023 | M1: % Risc.
A2: 100 Entrate correnti di natura tributaria, contributiva e perequativa | B2: =Entrate_Uscite!B3 -> 1.3731079e+09 | C2: =Entrate_Uscite!E3 -> 1.3725261e+09 | D2: =Entrate_Uscite!H3 -> 1.2967768e+09 | E2: =Entrate_Uscite!K3 -> 1.3896526e+09 | F2: =Entrate_Uscite!N3 -> 1.4522204e+09 | G2: =Entrate_Uscite!Q3 -> 1.4152144e+09 | H2: =Entrate_Uscite!T3 -> 1.5148567e+09 | I2: =Entrate_Uscite!W3 -> 1.5711039e+09 | J2: =I2/I$21*100 -> 65.111971 | K2: =IF(H2>0,I2/H2*100-100,"-") -> 3.7130387 | L2: =Entrate_Uscite!X3 -> 1.4417874e+09 | M2: =IF(I2>0,L2/I2*100,"-") -> 91.769068
A3: 200 Trasferimenti correnti | B3: =Entrate_Uscite!B4 -> 1.4591617e+08 | C3: =Entrate_Uscite!E4 -> 1.5002876e+08 | D3: =Entrate_Uscite!H4 -> 2.2430327e+08 | E3: =Entrate_Uscite!K4 -> 1.9515621e+08 | F3: =Entrate_Uscite!N4 -> 2.6551412e+08 | G3: =Entrate_Uscite!Q4 -> 2.6105265e+08 | H3: =Entrate_Uscite!T4 -> 3.9963932e+08 | I3: =Entrate_Uscite!W4 -> 4.4531493e+08 | J3: =I3/I$21*100 -> 18.455388 | K3: =IF(H3>0,I3/H3*100-100,"-") -> 11.429208 | L3: =Entrate_Uscite!X4 -> 3.3574325e+08 | M3: =IF(I3>0,L3/I3*100,"-") -> 75.394563
A4: 300 Entrate extratributarie | B4: =Entrate_Uscite!B5 -> 41646915 | C4: =Entrate_Uscite!E5 -> 40291301 | D4: =Entrate_Uscite!H5 -> 54107355 | E4: =Entrate_Uscite!K5 -> 52298911 | F4: =Entrate_Uscite!N5 -> 37134735 | G4: =Entrate_Uscite!Q5 -> 29571492 | H4: =Entrate_Uscite!T5 -> 27870926 | I4: =Entrate_Uscite!W5 -> 40014700 | J4: =I4/I$21*100 -> 1.6583473 | K4: =IF(H4>0,I4/H4*100-100,"-") -> 43.571475 | L4: =Entrate_Uscite!X5 -> 15345927 | M4: =IF(I4>0,L4/I4*100,"-") -> 38.350724
A5: - Entrate correnti | B5: =SUM(B2:B4) -> 1.560671e+09 | C5: =SUM(C2:C4) -> 1.5628462e+09 | D5: =SUM(D2:D4) -> 1.5751874e+09 | E5: =SUM(E2:E4) -> 1.6371078e+09 | F5: =SUM(F2:F4) -> 1.7548692e+09 | G5: =SUM(G2:G4) -> 1.7058386e+09 | H5: =SUM(H2:H4) -> 1.942367e+09 | I5: =SUM(I2:I4) -> 2.0564336e+09 | J5: =I5/I$21*100 -> 85.225706 | K5: =IF(H5>0,I5/H5*100-100,"-") -> 5.8725566 | L5: =SUM(L2:L4) -> 1.7928766e+09 | M5: =IF(I5>0,L5/I5*100,"-") -> 87.183785
A6: 401 Tributi in conto capitale | B6: =Entrate_Uscite!B6 -> 0 | C6: =Entrate_Uscite!E6 -> 0 | D6: =Entrate_Uscite!H6 -> 0 | E6: =Entrate_Uscite!K6 -> 0 | F6: =Entrate_Uscite!N6 -> 0 | G6: =Entrate_Uscite!Q6 -> 0 | H6: =Entrate_Uscite!T6 -> 0 | I6: =Entrate_Uscite!W6 -> 0 | J6: =I6/I$21*100 -> 0 | K6: =IF(H6>0,I6/H6*100-100,"-") -> - | L6: =Entrate_Uscite!X6 -> 0 | M6: =IF(I6>0,L6/I6*100,"-") -> -
A7: 402 Contributi agli investimenti | B7: =Entrate_Uscite!B7 -> 1.8148214e+08 | C7: =Entrate_Uscite!E7 -> 2.4252684e+08 | D7: =Entrate_Uscite!H7 -> 4.1212007e+08 | E7: =Entrate_Uscite!K7 -> 3.3135257e+08 | F7: =Entrate_Uscite!N7 -> 2.4714083e+08 | G7: =Entrate_Uscite!Q7 -> 218629583 | H7: =Entrate_Uscite!T7 -> 2.7812585e+08 | I7: =Entrate_Uscite!W7 -> 2.7643509e+08 | J7: =I7/I$21*100 -> 11.456424 | K7: =IF(H7>0,I7/H7*100-100,"-") -> -0.60791162 | L7: =Entrate_Uscite!X7 -> 38102861 | M7: =IF(I7>0,L7/I7*100,"-") -> 13.783656
A8: 403 Altri trasferimenti in conto capitale | B8: =Entrate_Uscite!B8 -> 50232930 | C8: =Entrate_Uscite!E8 -> 73673344 | D8: =Entrate_Uscite!H8 -> 78157043 | E8: =Entrate_Uscite!K8 -> 61156313 | F8: =Entrate_Uscite!N8 -> 43431530 | G8: =Entrate_Uscite!Q8 -> 70956779 | H8: =Entrate_Uscite!T8 -> 49396483 | I8: =Entrate_Uscite!W8 -> 46431811 | J8: =I8/I$21*100 -> 1.9242945 | K8: =IF(H8>0,I8/H8*100-100,"-") -> -6.001787 | L8: =Entrate_Uscite!X8 -> 35779775 | M8: =IF(I8>0,L8/I8*100,"-") -> 77.058754
A9: 404 Entrate da alienazione di beni materiali e immateriali | B9: =Entrate_Uscite!B9 -> 508519.56 | C9: =Entrate_Uscite!E9 -> 580234.74 | D9: =Entrate_Uscite!H9 -> 710491.89 | E9: =Entrate_Uscite!K9 -> 236376 | F9: =Entrate_Uscite!N9 -> 137830.87 | G9: =Entrate_Uscite!Q9 -> 91392.65 | H9: =Entrate_Uscite!T9 -> 286649.36 | I9: =Entrate_Uscite!W9 -> 59227.9 | J9: =I9/I$21*100 -> 0.0024546086 | K9: =IF(H9>0,I9/H9*100-100,"-") -> -79.337857 | L9: =Entrate_Uscite!X9 -> 59227.9 | M9: =IF(I9>0,L9/I9*100,"-") -> 100
A10: 405 Altre entrate in conto capitale | B10: =Entrate_Uscite!B10 -> 654822.47 | C10: =Entrate_Uscite!E10 -> 270697.95 | D10: =Entrate_Uscite!H10 -> 1149.45 | E10: =Entrate_Uscite!K10 -> 0 | F10: =Entrate_Uscite!N10 -> 0 | G10: =Entrate_Uscite!Q10 -> 0 | H10: =Entrate_Uscite!T10 -> 0 | I10: =Entrate_Uscite!W10 -> 0 | J10: =I10/I$21*100 -> 0 | K10: =IF(H10>0,I10/H10*100-100,"-") -> - | L10: =Entrate_Uscite!X10 -> 0 | M10: =IF(I10>0,L10/I10*100,"-") -> -
A11: - Entrate in conto capitale | B11: =SUM(B6:B10) -> 2.3287841e+08 | C11: =SUM(C6:C10) -> 3.1705112e+08 | D11: =SUM(D6:D10) -> 4.9098876e+08 | E11: =SUM(E6:E10) -> 3.9274526e+08 | F11: =SUM(F6:F10) -> 2.9071019e+08 | G11: =SUM(G6:G10) -> 2.8967775e+08 | H11: =SUM(H6:H10) -> 3.2780898e+08 | I11: =SUM(I6:I10) -> 3.2292613e+08 | J11: =I11/I$21*100 -> 13.383173 | K11: =IF(H11>0,I11/H11*100-100,"-") -> -1.489542 | L11: =SUM(L6:L10) -> 73941864 | M11: =IF(I11>0,L11/I11*100,"-") -> 22.897455
A12: 501 Alienazione di attività finanziarie | B12: =Entrate_Uscite!B11 -> 0 | C12: =Entrate_Uscite!E11 -> 0 | D12: =Entrate_Uscite!H11 -> 0 | E12: =Entrate_Uscite!K11 -> 0 | F12: =Entrate_Uscite!N11 -> 0 | G12: =Entrate_Uscite!Q11 -> 0 | H12: =Entrate_Uscite!T11 -> 0 | I12: =Entrate_Uscite!W11 -> 0 | J12: =I12/I$21*100 -> 0 | K12: =IF(H12>0,I12/H12*100-100,"-") -> - | L12: =Entrate_Uscite!X11 -> 0 | M12: =IF(I12>0,L12/I12*100,"-") -> -
A13: 502_3 Riscossione di crediti | B13: =Entrate_Uscite!B12 -> 0 | C13: =Entrate_Uscite!E12 -> 0 | D13: =Entrate_Uscite!H12 -> 0 | E13: =Entrate_Uscite!K12 -> 0 | F13: =Entrate_Uscite!N12 -> 0 | G13: =Entrate_Uscite!Q12 -> 0 | H13: =Entrate_Uscite!T12 -> 0 | I13: =Entrate_Uscite!W12 -> 0 | J13: =I13/I$21*100 -> 0 | K13: =IF(H13>0,I13/H13*100-100,"-") -> - | L13: =Entrate_Uscite!X12 -> 0 | M13: =IF(I13>0,L13/I13*100,"-") -> -
A14: 504 Altre entrate per riduzione di attività finanziarie | B14: =Entrate_Uscite!B13 -> 37699095 | C14: =Entrate_Uscite!E13 -> 18854037 | D14: =Entrate_Uscite!H13 -> 30249929 | E14: =Entrate_Uscite!K13 -> 1.9331286e+08 | F14: =Entrate_Uscite!N13 -> 1.7889151e+08 | G14: =Entrate_Uscite!Q13 -> 76874076 | H14: =Entrate_Uscite!T13 -> 34525947 | I14: =Entrate_Uscite!W13 -> 33566708 | J14: =I14/I$21*100 -> 1.3911203 | K14: =IF(H14>0,I14/H14*100-100,"-") -> -2.7783136 | L14: =Entrate_Uscite!X13 -> 50 | M14: =IF(I14>0,L14/I14*100,"-") -> 0.00014895711
A15: - Entrate da riduzione attività finanziarie | B15: =SUM(B12:B14) -> 37699095 | C15: =SUM(C12:C14) -> 18854037 | D15: =SUM(D12:D14) -> 30249929 | E15: =SUM(E12:E14) -> 1.9331286e+08 | F15: =SUM(F12:F14) -> 1.7889151e+08 | G15: =SUM(G12:G14) -> 76874076 | H15: =SUM(H12:H14) -> 34525947 | I15: =SUM(I12:I14) -> 33566708 | J15: =I15/I$21*100 -> 1.3911203 | K15: =IF(H15>0,I15/H15*100-100,"-") -> -2.7783136 | L15: =SUM(L12:L14) -> 50 | M15: =IF(I15>0,L15/I15*100,"-") -> 0.00014895711
A16: Entrate finali | B16: =B5+B11+B15 -> 1.8312485e+09 | C16: =C5+C11+C15 -> 1.8987513e+09 | D16: =D5+D11+D15 -> 2.0964261e+09 | E16: =E5+E11+E15 -> 2.2231659e+09 | F16: =F5+F11+F15 -> 2.2244709e+09 | G16: =G5+G11+G15 -> 2.0723904e+09 | H16: =H5+H11+H15 -> 2.3047019e+09 | I16: =I5+I11+I15 -> 2.4129264e+09 | J16: =I16/I$21*100 -> 100 | K16: =IF(H16>0,I16/H16*100-100,"-") -> 4.6958137 | L16: =L5+L11+L15 -> 1.8668185e+09 | M16: =IF(I16>0,L16/I16*100,"-") -> 77.367404
A17: - Accensione di prestiti | B17: =Entrate_Uscite!B17 -> 0 | C17: =Entrate_Uscite!E17 -> 34416029 | D17: =Entrate_Uscite!H17 -> 16816369 | E17: =Entrate_Uscite!K17 -> 0 | F17: =Entrate_Uscite!N17 -> 0 | G17: =Entrate_Uscite!Q17 -> 0 | H17: =Entrate_Uscite!T17 -> 0 | I17: =Entrate_Uscite!W17 -> 0 | J17: =I17/I$21*100 -> 0 | K17: =IF(H17>0,I17/H17*100-100,"-") -> - | L17: =Entrate_Uscite!X17 -> 0 | M17: =IF(I17>0,L17/I17*100,"-") -> -
A18: - Anticipazioni da istituto tesoriere/cassiere | B18: =Entrate_Uscite!B18 -> 0 | C18: =Entrate_Uscite!E18 -> 0 | D18: =Entrate_Uscite!H18 -> 0 | E18: =Entrate_Uscite!K18 -> 0 | F18: =Entrate_Uscite!N18 -> 0 | G18: =Entrate_Uscite!Q18 -> 0 | H18: =Entrate_Uscite!T18 -> 0 | I18: =Entrate_Uscite!W18 -> 0 | J18: =I18/I$21*100 -> 0 | K18: =IF(H18>0,I18/H18*100-100,"-") -> - | L18: =Entrate_Uscite!X18 -> 0 | M18: =IF(I18>0,L18/I18*100,"-") -> -
A19: - Entrate per conto terzi e partite di giro | B19: =Entrate_Uscite!B19 -> 2.6858056e+08 | C19: =Entrate_Uscite!E19 -> 1.835963e+08 | D19: =Entrate_Uscite!H19 -> 1.6224292e+08 | E19: =Entrate_Uscite!K19 -> 2.3152848e+08 | F19: =Entrate_Uscite!N19 -> 2.2254321e+08 | G19: =Entrate_Uscite!Q19 -> 1.4714554e+08 | H19: =Entrate_Uscite!T19 -> 1.3345756e+08 | I19: =Entrate_Uscite!W19 -> 1.704603e+08 | K19: =IF(H19>0,I19/H19*100-100,"-") -> 27.726225 | L19: =Entrate_Uscite!X19 -> 1.6933486e+08 | M19: =IF(I19>0,L19/I19*100,"-") -> 99.339764
A20: Totale Entrate | B20: =B5+B11+B15+B17+B18+B19 -> 2.099829e+09 | C20: =C5+C11+C15+C17+C18+C19 -> 2.1167636e+09 | D20: =D5+D11+D15+D17+D18+D19 -> 2.2754854e+09 | E20: =E5+E11+E15+E17+E18+E19 -> 2.4546944e+09 | F20: =F5+F11+F15+F17+F18+F19 -> 2.4470141e+09 | G20: =G5+G11+G15+G17+G18+G19 -> 2.2195359e+09 | H20: =H5+H11+H15+H17+H18+H19 -> 2.4381595e+09 | I20: =I5+I11+I15+I17+I18+I19 -> 2.5833867e+09 | K20: =IF(H20>0,I20/H20*100-100,"-") -> 5.9564296 | L20: =L5+L11+L15+L17+L18+L19 -> 2.0361534e+09 | M20: =IF(I20>0,L20/I20*100,"-") -> 78.817213
A21: Entrate nette | B21: =B20-B19 -> 1.8312485e+09 | C21: =C20-C19 -> 1.9331673e+09 | D21: =D20-D19 -> 2.1132425e+09 | E21: =E20-E19 -> 2.2231659e+09 | F21: =F20-F19 -> 2.2244709e+09 | G21: =G20-G19 -> 2.0723904e+09 | H21: =H20-H19 -> 2.3047019e+09 | I21: =I20-I19 -> 2.4129264e+09 | J21: =I21/I$21*100 -> 100 | K21: =IF(H21>0,I21/H21*100-100,"-") -> 4.6958137 | L21: =L20-L19 -> 1.8668185e+09 | M21: =IF(I21>0,L21/I21*100,"-") -> 77.367404

Sheet Tav_Uscite
B1: 2016 | C1: 2017 | D1: 2018 | E1: 2019 | F1: 2020 | G1: 2021 | H1: 2022 | I1: 2023 | J1: Comp.% netta | K1: Var. % | L1: Pagamenti 2023 | M1: % Pag.
A2: 101 Redditi da lavoro dipendente | B2: =Entrate_Uscite!B23 -> 59880139 | C2: =Entrate_Uscite!E23 -> 59676308 | D2: =Entrate_Uscite!H23 -> 66884562 | E2: =Entrate_Uscite!K23 -> 69944914 | F2: =Entrate_Uscite!N23 -> 59827641 | G2: =Entrate_Uscite!Q23 -> 54158488 | H2: =Entrate_Uscite!T23 -> 52109911 | I2: =Entrate_Uscite!W23 -> 51017417 | J2: =I2/I$31*100 -> 2.1715791 | K2: =IF(H2>0,I2/H2*100-100,"-") -> -2.0965189 | L2: =Entrate_Uscite!X23 -> 50626822 | M2: =IF(I2>0,L2/I2*100,"-") -> 99.234389
A3: 102 Imposte e tasse a carico dell'ente | B3: =Entrate_Uscite!B24 -> 4613627 | C3: =Entrate_Uscite!E24 -> 5070057.6 | D3: =Entrate_Uscite!H24 -> 4691335.2 | E3: =Entrate_Uscite!K24 -> 5575455.6 | F3: =Entrate_Uscite!N24 -> 5068312 | G3: =Entrate_Uscite!Q24 -> 4335491.5 | H3: =Entrate_Uscite!T24 -> 4760908.2 | I3: =Entrate_Uscite!W24 -> 5383142.3 | J3: =I3/I$31*100 -> 0.22913585 | K3: =IF(H3>0,I3/H3*100-100,"-") -> 13.069649 | L3: =Entrate_Uscite!X24 -> 5361135.2 | M3: =IF(I3>0,L3/I3*100,"-") -> 99.591185
A4: 103 Acquisto di beni e servizi | B4: =Entrate_Uscite!B25 -> 71686425 | C4: =Entrate_Uscite!E25 -> 85225046 | D4: =Entrate_Uscite!H25 -> 97382478 | E4: =Entrate_Uscite!K25 -> 1.1154938e+08 | F4: =Entrate_Uscite!N25 -> 70905699 | G4: =Entrate_Uscite!Q25 -> 88262410 | H4: =Entrate_Uscite!T25 -> 1.1832386e+08 | I4: =Entrate_Uscite!W25 -> 1.1458979e+08 | J4: =I4/I$31*100 -> 4.8775656 | K4: =IF(H4>0,I4/H4*100-100,"-") -> -3.1558022 | L4: =Entrate_Uscite!X25 -> 97817531 | M4: =IF(I4>0,L4/I4*100,"-") -> 85.363214
A5: 104 Trasferimenti correnti | B5: =Entrate_Uscite!B26 -> 1.2505685e+09 | C5: =Entrate_Uscite!E26 -> 1.3106655e+09 | D5: =Entrate_Uscite!H26 -> 1.280618e+09 | E5: =Entrate_Uscite!K26 -> 1.3043501e+09 | F5: =Entrate_Uscite!N26 -> 1.4150516e+09 | G5: =Entrate_Uscite!Q26 -> 1.3918323e+09 | H5: =Entrate_Uscite!T26 -> 1.519386e+09 | I5: =Entrate_Uscite!W26 -> 1.6517484e+09 | J5: =I5/I$31*100 -> 70.307404 | K5: =IF(H5>0,I5/H5*100-100,"-") -> 8.7115658 | L5: =Entrate_Uscite!X26 -> 1.5576697e+09 | M5: =IF(I5>0,L5/I5*100,"-") -> 94.304297
A6: 107 Interessi passivi | B6: =Entrate_Uscite!B29 -> 7260057.8 | C6: =Entrate_Uscite!E29 -> 6235613.7 | D6: =Entrate_Uscite!H29 -> 7320424.3 | E6: =Entrate_Uscite!K29 -> 5765523.7 | F6: =Entrate_Uscite!N29 -> 6225752.9 | G6: =Entrate_Uscite!Q29 -> 5996977 | H6: =Entrate_Uscite!T29 -> 6457027.2 | I6: =Entrate_Uscite!W29 -> 7413198.2 | J6: =I6/I$31*100 -> 0.31554608 | K6: =IF(H6>0,I6/H6*100-100,"-") -> 14.808224 | L6: =Entrate_Uscite!X29 -> 7413198.2 | M6: =IF(I6>0,L6/I6*100,"-") -> 100
A7: 108 Altre spese per redditi da capitale | B7: =Entrate_Uscite!B30 -> 0 | C7: =Entrate_Uscite!E30 -> 0 | D7: =Entrate_Uscite!H30 -> 0 | E7: =Entrate_Uscite!K30 -> 0 | F7: =Entrate_Uscite!N30 -> 0 | G7: =Entrate_Uscite!Q30 -> 0 | H7: =Entrate_Uscite!T30 -> 0 | I7: =Entrate_Uscite!W30 -> 0 | J7: =I7/I$31*100 -> 0 | K7: =IF(H7>0,I7/H7*100-100,"-") -> - | L7: =Entrate_Uscite!X30 -> 0 | M7: =IF(I7>0,L7/I7*100,"-") -> -
A8: 109 Rimborsi e poste correttive delle entrate | B8: =Entrate_Uscite!B31 -> 693609.14 | C8: =Entrate_Uscite!E31 -> 980208.32 | D8: =Entrate_Uscite!H31 -> 942554.58 | E8: =Entrate_Uscite!K31 -> 655190.39 | F8: =Entrate_Uscite!N31 -> 493423.08 | G8: =Entrate_Uscite!Q31 -> 533564.43 | H8: =Entrate_Uscite!T31 -> 467639.75 | I8: =Entrate_Uscite!W31 -> 10482062 | J8: =I8/I$31*100 -> 0.44617365 | K8: =IF(H8>0,I8/H8*100-100,"-") -> 2141.4824 | L8: =Entrate_Uscite!X31 -> 10482062 | M8: =IF(I8>0,L8/I8*100,"-") -> 100
A9: 110 Altre spese correnti | B9: =Entrate_Uscite!B32 -> 1160371.6 | C9: =Entrate_Uscite!E32 -> 854691.95 | D9: =Entrate_Uscite!H32 -> 708127.79 | E9: =Entrate_Uscite!K32 -> 2979154.5 | F9: =Entrate_Uscite!N32 -> 29372492 | G9: =Entrate_Uscite!Q32 -> 7363288.1 | H9: =Entrate_Uscite!T32 -> 7587301.2 | I9: =Entrate_Uscite!W32 -> 25439021 | J9: =I9/I$31*100 -> 1.0828233 | K9: =IF(H9>0,I9/H9*100-100,"-") -> 235.28419 | L9: =Entrate_Uscite!X32 -> 17960576 | M9: =IF(I9>0,L9/I9*100,"-") -> 70.602464
A10: - Spese correnti | B10: =SUM(B2:B9) -> 1.3958627e+09 | C10: =SUM(C2:C9) -> 1.4687074e+09 | D10: =SUM(D2:D9) -> 1.4585474e+09 | E10: =SUM(E2:E9) -> 1.5008197e+09 | F10: =SUM(F2:F9) -> 1.5869449e+09 | G10: =SUM(G2:G9) -> 1.5524825e+09 | H10: =SUM(H2:H9) -> 1.7090927e+09 | I10: =SUM(I2:I9) -> 1.866073e+09 | J10: =I10/I$31*100 -> 79.430227 | K10: =IF(H10>0,I10/H10*100-100,"-") -> 9.185008 | L10: =SUM(L2:L9) -> 1.747331e+09 | M10: =IF(I10>0,L10/I10*100,"-") -> 93.636798
A11: 202 Investimenti fissi lordi e acquisto di terreni | B11: =Entrate_Uscite!B34 -> 20715679 | C11: =Entrate_Uscite!E34 -> 48956619 | D11: =Entrate_Uscite!H34 -> 19010628 | E11: =Entrate_Uscite!K34 -> 20063614 | F11: =Entrate_Uscite!N34 -> 26755513 | G11: =Entrate_Uscite!Q34 -> 11978136 | H11: =Entrate_Uscite!T34 -> 8100620.2 | I11: =Entrate_Uscite!W34 -> 12639077 | J11: =I11/I$31*100 -> 0.53798792 | K11: =IF(H11>0,I11/H11*100-100,"-") -> 56.026036 | L11: =Entrate_Uscite!X34 -> 9404816.3 | M11: =IF(I11>0,L11/I11*100,"-") -> 74.410628
A12: 203 Contributi agli investimenti | B12: =Entrate_Uscite!B35 -> 2.8538949e+08 | C12: =Entrate_Uscite!E35 -> 3.0436993e+08 | D12: =Entrate_Uscite!H35 -> 4.135905e+08 | E12: =Entrate_Uscite!K35 -> 2.7014786e+08 | F12: =Entrate_Uscite!N35 -> 4.1279557e+08 | G12: =Entrate_Uscite!Q35 -> 3.2306863e+08 | H12: =Entrate_Uscite!T35 -> 3.7797894e+08 | I12: =Entrate_Uscite!W35 -> 3.7084138e+08 | J12: =I12/I$31*100 -> 15.785028 | K12: =IF(H12>0,I12/H12*100-100,"-") -> -1.8883502 | L12: =Entrate_Uscite!X35 -> 2.6422365e+08 | M12: =IF(I12>0,L12/I12*100,"-") -> 71.249775
A13: 204 Altri trasferimenti in conto capitale | B13: =Entrate_Uscite!B36 -> 60927783 | C13: =Entrate_Uscite!E36 -> 66181516 | D13: =Entrate_Uscite!H36 -> 54800895 | E13: =Entrate_Uscite!K36 -> 43404967 | F13: =Entrate_Uscite!N36 -> 39533564 | G13: =Entrate_Uscite!Q36 -> 27073900 | H13: =Entrate_Uscite!T36 -> 13931892 | I13: =Entrate_Uscite!W36 -> 47022494 | J13: =I13/I$31*100 -> 2.0015334 | K13: =IF(H13>0,I13/H13*100-100,"-") -> 237.51692 | L13: =Entrate_Uscite!X36 -> 25547314 | M13: =IF(I13>0,L13/I13*100,"-") -> 54.329985
A14: 205 Altre spese in conto capitale | B14: =Entrate_Uscite!B37 -> 108167.4 | C14: =Entrate_Uscite!E37 -> 3000000 | D14: =Entrate_Uscite!H37 -> 0 | E14: =Entrate_Uscite!K37 -> 2999.99 | F14: =Entrate_Uscite!N37 -> 25293.53 | G14: =Entrate_Uscite!Q37 -> 0 | H14: =Entrate_Uscite!T37 -> 23347.87 | I14: =Entrate_Uscite!W37 -> 0 | J14: =I14/I$31*100 -> 0 | K14: =IF(H14>0,I14/H14*100-100,"-") -> -100 | L14: =Entrate_Uscite!X37 -> 0 | M14: =IF(I14>0,L14/I14*100,"-") -> -
A15: - Spese in conto capitale | B15: =SUM(B11:B14) -> 3.6714112e+08 | C15: =SUM(C11:C14) -> 4.2250806e+08 | D15: =SUM(D11:D14) -> 4.8740202e+08 | E15: =SUM(E11:E14) -> 3.3361944e+08 | F15: =SUM(F11:F14) -> 4.7910994e+08 | G15: =SUM(G11:G14) -> 3.6212067e+08 | H15: =SUM(H11:H14) -> 4.000348e+08 | I15: =SUM(I11:I14) -> 4.3050295e+08 | J15: =I15/I$31*100 -> 18.32455 | K15: =IF(H15>0,I15/H15*100-100,"-") -> 7.6163733 | L15: =SUM(L11:L14) -> 2.9917578e+08 | M15: =IF(I15>0,L15/I15*100,"-") -> 69.494479
A16: 301 Acquisizioni di attività finanziarie | B16: =Entrate_Uscite!B38 -> 5300000 | C16: =Entrate_Uscite!E38 -> 688458.83 | D16: =Entrate_Uscite!H38 -> 0 | E16: =Entrate_Uscite!K38 -> 34214.11 | F16: =Entrate_Uscite!N38 -> 0 | G16: =Entrate_Uscite!Q38 -> 5000000 | H16: =Entrate_Uscite!T38 -> 0 | I16: =Entrate_Uscite!W38 -> 0 | J16: =I16/I$31*100 -> 0 | K16: =IF(H16>0,I16/H16*100-100,"-") -> - | L16: =Entrate_Uscite!X38 -> 0 | M16: =IF(I16>0,L16/I16*100,"-") -> -
A17: 302 Concessione crediti di breve termine | B17: =Entrate_Uscite!B39 -> 0 | C17: =Entrate_Uscite!E39 -> 0 | D17: =Entrate_Uscite!H39 -> 0 | E17: =Entrate_Uscite!K39 -> 0 | F17: =Entrate_Uscite!N39 -> 0 | G17: =Entrate_Uscite!Q39 -> 0 | H17: =Entrate_Uscite!T39 -> 0 | I17: =Entrate_Uscite!W39 -> 0 | J17: =I17/I$31*100 -> 0 | K17: =IF(H17>0,I17/H17*100-100,"-") -> - | L17: =Entrate_Uscite!X39 -> 0 | M17: =IF(I17>0,L17/I17*100,"-") -> -
A18: 303 Concessione crediti di medio-lungo termine | B18: =Entrate_Uscite!B40 -> 0 | C18: =Entrate_Uscite!E40 -> 0 | D18: =Entrate_Uscite!H40 -> 0 | E18: =Entrate_Uscite!K40 -> 0 | F18: =Entrate_Uscite!N40 -> 0 | G18: =Entrate_Uscite!Q40 -> 0 | H18: =Entrate_Uscite!T40 -> 0 | I18: =Entrate_Uscite!W40 -> 0 | J18: =I18/I$31*100 -> 0 | K18: =IF(H18>0,I18/H18*100-100,"-") -> - | L18: =Entrate_Uscite!X40 -> 0 | M18: =IF(I18>0,L18/I18*100,"-") -> -
A19: 304 Altre spese per incremento di attività finanziarie | B19: =Entrate_Uscite!B41 -> 37699095 | C19: =Entrate_Uscite!E41 -> 18854037 | D19: =Entrate_Uscite!H41 -> 30249929 | E19: =Entrate_Uscite!K41 -> 1.9331286e+08 | F19: =Entrate_Uscite!N41 -> 1.7889151e+08 | G19: =Entrate_Uscite!Q41 -> 76874076 | H19: =Entrate_Uscite!T41 -> 34525947 | I19: =Entrate_Uscite!W41 -> 33566708 | J19: =I19/I$31*100 -> 1.4287819 | K19: =IF(H19>0,I19/H19*100-100,"-") -> -2.7783136 | L19: =Entrate_Uscite!X41 -> 33566708 | M19: =IF(I19>0,L19/I19*100,"-") -> 100
A20: - Spese per incremento attività finanziarie | B20: =SUM(B16:B19) -> 42999095 | C20: =SUM(C16:C19) -> 19542496 | D20: =SUM(D16:D19) -> 30249929 | E20: =SUM(E16:E19) -> 1.9334707e+08 | F20: =SUM(F16:F19) -> 1.7889151e+08 | G20: =SUM(G16:G19) -> 81874076 | H20: =SUM(H16:H19) -> 34525947 | I20: =SUM(I16:I19) -> 33566708 | J20: =I20/I$31*100 -> 1.4287819 | K20: =IF(H20>0,I20/H20*100-100,"-") -> -2.7783136 | L20: =SUM(L16:L19) -> 33566708 | M20: =IF(I20>0,L20/I20*100,"-") -> 100
A21: Uscite finali | B21: =B10+B15+B20 -> 1.8060029e+09 | C21: =C10+C15+C20 -> 1.910758e+09 | D21: =D10+D15+D20 -> 1.9761994e+09 | E21: =E10+E15+E20 -> 2.0277862e+09 | F21: =F10+F15+F20 -> 2.2449464e+09 | G21: =G10+G15+G20 -> 1.9964772e+09 | H21: =H10+H15+H20 -> 2.1436534e+09 | I21: =I10+I15+I20 -> 2.3301426e+09 | J21: =I21/I$31*100 -> 99.183559 | K21: =IF(H21>0,I21/H21*100-100,"-") -> 8.6995968 | L21: =L10+L15+L20 -> 2.0800735e+09 | M21: =IF(I21>0,L21/I21*100,"-") -> 89.268075
A22: 401 Rimborso di titoli obbligazionari | B22: =Entrate_Uscite!B42 -> 1922551 | C22: =Entrate_Uscite!E42 -> 1980975.1 | D22: =Entrate_Uscite!H42 -> 2040637.1 | E22: =Entrate_Uscite!K42 -> 1043465.4 | F22: =Entrate_Uscite!N42 -> 0 | G22: =Entrate_Uscite!Q42 -> 0 | H22: =Entrate_Uscite!T42 -> 0 | I22: =Entrate_Uscite!W42 -> 0 | J22: =I22/I$31*100 -> 0 | K22: =IF(H22>0,I22/H22*100-100,"-") -> - | L22: =Entrate_Uscite!X42 -> 0 | M22: =IF(I22>0,L22/I22*100,"-") -> -
A23: 402 Rimborso prestiti a breve termine | B23: =Entrate_Uscite!B43 -> 0 | C23: =Entrate_Uscite!E43 -> 0 | D23: =Entrate_Uscite!H43 -> 0 | E23: =Entrate_Uscite!K43 -> 0 | F23: =Entrate_Uscite!N43 -> 0 | G23: =Entrate_Uscite!Q43 -> 0 | H23: =Entrate_Uscite!T43 -> 0 | I23: =Entrate_Uscite!W43 -> 0 | J23: =I23/I$31*100 -> 0 | K23: =IF(H23>0,I23/H23*100-100,"-") -> - | L23: =Entrate_Uscite!X43 -> 0 | M23: =IF(I23>0,L23/I23*100,"-") -> -
A24: 403 Rimborso mutui e finanziamenti a medio-lungo termine | B24: =Entrate_Uscite!B44 -> 41010290 | C24: =Entrate_Uscite!E44 -> 43988388 | D24: =Entrate_Uscite!H44 -> 47488941 | E24: =Entrate_Uscite!K44 -> 44365792 | F24: =Entrate_Uscite!N44 -> 14955693 | G24: =Entrate_Uscite!Q44 -> 17392847 | H24: =Entrate_Uscite!T44 -> 20973014 | I24: =Entrate_Uscite!W44 -> 19180844 | J24: =I24/I$31*100 -> 0.81644118 | K24: =IF(H24>0,I24/H24*100-100,"-") -> -8.5451208 | L24: =Entrate_Uscite!X44 -> 19180844 | M24: =IF(I24>0,L24/I24*100,"-") -> 100
A25: 404 Rimborso di altre forme di indebitamento | B25: =Entrate_Uscite!B45 -> 771478.96 | C25: =Entrate_Uscite!E45 -> 897721.32 | D25: =Entrate_Uscite!H45 -> 1042867.4 | E25: =Entrate_Uscite!K45 -> 1199068 | F25: =Entrate_Uscite!N45 -> 0 | G25: =Entrate_Uscite!Q45 -> 0 | H25: =Entrate_Uscite!T45 -> 0 | I25: =Entrate_Uscite!W45 -> 0 | J25: =I25/I$31*100 -> 0 | K25: =IF(H25>0,I25/H25*100-100,"-") -> - | L25: =Entrate_Uscite!X45 -> 0 | M25: =IF(I25>0,L25/I25*100,"-") -> -
A26: 405 Fondi per rimborso prestiti | B26: =Entrate_Uscite!B46 -> 0 | C26: =Entrate_Uscite!E46 -> 0 | D26: =Entrate_Uscite!H46 -> 0 | E26: =Entrate_Uscite!K46 -> 0 | F26: =Entrate_Uscite!N46 -> 0 | G26: =Entrate_Uscite!Q46 -> 0 | H26: =Entrate_Uscite!T46 -> 0 | I26: =Entrate_Uscite!W46 -> 0 | J26: =I26/I$31*100 -> 0 | K26: =IF(H26>0,I26/H26*100-100,"-") -> - | L26: =Entrate_Uscite!X46 -> 0 | M26: =IF(I26>0,L26/I26*100,"-") -> -
A27: - Rimborso prestiti | B27: =SUM(B22:B26) -> 43704320 | C27: =SUM(C22:C26) -> 46867084 | D27: =SUM(D22:D26) -> 50572445 | E27: =SUM(E22:E26) -> 46608326 | F27: =SUM(F22:F26) -> 14955693 | G27: =SUM(G22:G26) -> 17392847 | H27: =SUM(H22:H26) -> 20973014 | I27: =SUM(I22:I26) -> 19180844 | J27: =I27/I$31*100 -> 0.81644118 | K27: =IF(H27>0,I27/H27*100-100,"-") -> -8.5451208 | L27: =SUM(L22:L26) -> 19180844 | M27: =IF(I27>0,L27/I27*100,"-") -> 100
A28: - Chiusura anticipazioni ricevute da tesoriere/cassiere | B28: =Entrate_Uscite!B54 -> 0 | C28: =Entrate_Uscite!E54 -> 0 | D28: =Entrate_Uscite!H54 -> 0 | E28: =Entrate_Uscite!K54 -> 0 | F28: =Entrate_Uscite!N54 -> 0 | G28: =Entrate_Uscite!Q54 -> 0 | H28: =Entrate_Uscite!T54 -> 0 | I28: =Entrate_Uscite!W54 -> 0 | J28: =I28/I$31*100 -> 0 | K28: =IF(H28>0,I28/H28*100-100,"-") -> - | L28: =Entrate_Uscite!X54 -> 0 | M28: =IF(I28>0,L28/I28*100,"-") -> -
A29: - Uscite per conto terzi e partite di giro | B29: =Entrate_Uscite!B55 -> 2.6858056e+08 | C29: =Entrate_Uscite!E55 -> 1.835963e+08 | D29: =Entrate_Uscite!H55 -> 1.6224292e+08 | E29: =Entrate_Uscite!K55 -> 2.3152848e+08 | F29: =Entrate_Uscite!N55 -> 2.2254321e+08 | G29: =Entrate_Uscite!Q55 -> 1.4714554e+08 | H29: =Entrate_Uscite!T55 -> 1.3345756e+08 | I29: =Entrate_Uscite!W55 -> 1.704603e+08 | K29: =IF(H29>0,I29/H29*100-100,"-") -> 27.726225 | L29: =Entrate_Uscite!X55 -> 57021217 | M29: =IF(I29>0,L29/I29*100,"-") -> 33.451318
A30: Totale Uscite | B30: =B10+B15+B20+B27+B28+B29 -> 2.1182878e+09 | C30: =C10+C15+C20+C27+C28+C29 -> 2.1412214e+09 | D30: =D10+D15+D20+D27+D28+D29 -> 2.1890148e+09 | E30: =E10+E15+E20+E27+E28+E29 -> 2.3059231e+09 | F30: =F10+F15+F20+F27+F28+F29 -> 2.4824453e+09 | G30: =G10+G15+G20+G27+G28+G29 -> 2.1610156e+09 | H30: =H10+H15+H20+H27+H28+H29 -> 2.298084e+09 | I30: =I10+I15+I20+I27+I28+I29 -> 2.5197838e+09 | K30: =IF(H30>0,I30/H30*100-100,"-") -> 9.6471573 | L30: =L10+L15+L20+L27+L28+L29 -> 2.1562755e+09 | M30: =IF(I30>0,L30/I30*100,"-") -> 85.573832
A31: Uscite nette | B31: =B30-B29 -> 1.8497072e+09 | C31: =C30-C29 -> 1.9576251e+09 | D31: =D30-D29 -> 2.0267718e+09 | E31: =E30-E29 -> 2.0743946e+09 | F31: =F30-F29 -> 2.2599021e+09 | G31: =G30-G29 -> 2.0138701e+09 | H31: =H30-H29 -> 2.1646265e+09 | I31: =I30-I29 -> 2.3493235e+09 | J31: =I31/I$31*100 -> 100 | K31: =IF(H31>0,I31/H31*100-100,"-") -> 8.5325131 | L31: =L30-L29 -> 2.0992543e+09 | M31: =IF(I31>0,L31/I31*100,"-") -> 89.355695

Sheet Tav_Saldi
B1: 2016 | C1: 2017 | D1: 2018 | E1: 2019 | F1: 2020 | G1: 2021 | H1: 2022 | I1: 2023 | J1: Diff. | K1: Risc. - Pag.
A2: Saldo corrente | B2: =Entrate_Uscite!B59 -> 1.6480825e+08 | C2: =Entrate_Uscite!E59 -> 94138726 | D2: =Entrate_Uscite!H59 -> 1.1663997e+08 | E2: =Entrate_Uscite!K59 -> 1.3628804e+08 | F2: =Entrate_Uscite!N59 -> 1.679243e+08 | G2: =Entrate_Uscite!Q59 -> 1.5335608e+08 | H2: =Entrate_Uscite!T59 -> 2.3327429e+08 | I2: =Entrate_Uscite!W59 -> 1.9036059e+08 | J2: =I2-H2 -> -42913701 | K2: =Entrate_Uscite!X59 -> 45545628
A3: Saldo in conto capitale | B3: =Entrate_Uscite!B60 -> -1.3426271e+08 | C3: =Entrate_Uscite!E60 -> -1.0545695e+08 | D3: =Entrate_Uscite!H60 -> 3586730.4 | E3: =Entrate_Uscite!K60 -> 59125816 | F3: =Entrate_Uscite!N60 -> -1.8839975e+08 | G3: =Entrate_Uscite!Q60 -> -72442912 | H3: =Entrate_Uscite!T60 -> -72225825 | I3: =Entrate_Uscite!W60 -> -1.0757682e+08 | J3: =I3-H3 -> -35350996 | K3: =Entrate_Uscite!X60 -> -2.2523392e+08
A4: Saldo riduzione/incremento attività finanziarie | B4: =Entrate_Uscite!B16-Entrate_Uscite!B52 -> -5300000 | C4: =Entrate_Uscite!E16-Entrate_Uscite!E52 -> -688458.83 | D4: =Entrate_Uscite!H16-Entrate_Uscite!H52 -> 0 | E4: =Entrate_Uscite!K16-Entrate_Uscite!K52 -> -34214.11 | F4: =Entrate_Uscite!N16-Entrate_Uscite!N52 -> 0 | G4: =Entrate_Uscite!Q16-Entrate_Uscite!Q52 -> -5000000 | H4: =Entrate_Uscite!T16-Entrate_Uscite!T52 -> 0 | I4: =Entrate_Uscite!W16-Entrate_Uscite!W52 -> 0 | J4: =I4-H4 -> 0 | K4: =Entrate_Uscite!X16-Entrate_Uscite!X52 -> -33566658
A5: Saldo finale | B5: =SUM(Entrate_Uscite!B14:B16)-SUM(Entrate_Uscite!B50:B52) -> 25245545 | C5: =SUM(Entrate_Uscite!E14:E16)-SUM(Entrate_Uscite!E50:E52) -> -12006682 | D5: =SUM(Entrate_Uscite!H14:H16)-SUM(Entrate_Uscite!H50:H52) -> 1.202267e+08 | E5: =SUM(Entrate_Uscite!K14:K16)-SUM(Entrate_Uscite!K50:K52) -> 1.9537964e+08 | F5: =SUM(Entrate_Uscite!N14:N16)-SUM(Entrate_Uscite!N50:N52) -> -20475445 | G5: =SUM(Entrate_Uscite!Q14:Q16)-SUM(Entrate_Uscite!Q50:Q52) -> 75913164 | H5: =SUM(Entrate_Uscite!T14:T16)-SUM(Entrate_Uscite!T50:T52) -> 1.6104846e+08 | I5: =SUM(Entrate_Uscite!W14:W16)-SUM(Entrate_Uscite!W50:W52) -> 82783764 | J5: =I5-H5 -> -78264698 | K5: =SUM(Entrate_Uscite!X14:X16)-SUM(Entrate_Uscite!X50:X52) -> -2.1325495e+08
A6: Saldo netto | B6: =Entrate_Uscite!B58 -> -18458775 | C6: =Entrate_Uscite!E58 -> -24457737 | D6: =Entrate_Uscite!H58 -> 86470625 | E6: =Entrate_Uscite!K58 -> 1.4877131e+08 | F6: =Entrate_Uscite!N58 -> -35431138 | G6: =Entrate_Uscite!Q58 -> 58520317 | H6: =Entrate_Uscite!T58 -> 1.4007545e+08 | I6: =Entrate_Uscite!W58 -> 63602920 | J6: =I6-H6 -> -76472528 | K6: =Entrate_Uscite!X58 -> -2.3243579e+08

Sheet Risultato_amministrazione
B1: 2014 | C1: 2015 | D1: 2016 | E1: 2017 | F1: 2018 | G1: 2019 | H1: 2020 | I1: 2021 | J1: 2022 | K1: 2023
A2: Saldo di cassa | B2: 4.8561712e+08 | C2: 2.3221535e+08 | D2: 66965946 | E2: 3.0917465e+08 | F2: 1.7120316e+08 | G2: 1.6699659e+08 | H2: 1.55435e+08 | I2: 4.0831141e+08 | J2: 4.6812878e+08 | K2: 4.5425041e+08
A3: Residui attivi | B3: 1.2173831e+09 | C3: 1.216052e+09 | D3: 1.1835015e+09 | E3: 9.8889955e+08 | F3: 1.3252424e+09 | G3: 1.644419e+09 | H3: 1.6630588e+09 | I3: 1.3827079e+09 | J3: 1.4989799e+09 | K3: 1.67889e+09
A4: Residui passivi | B4: 7.518454e+08 | C4: 5.8255089e+08 | D4: 4.4368529e+08 | E4: 5.5697135e+08 | F4: 6.7179508e+08 | G4: 8.5593602e+08 | H4: 8.944391e+08 | I4: 8.0061185e+08 | J4: 8.3160712e+08 | K4: 9.3177818e+08
A5: FPV per spese correnti | B5: 12275836 | C5: 18914434 | D5: 9123311.9 | E5: 14262161 | F5: 22090723 | G5: 45088154 | H5: 48320031 | I5: 62079163 | J5: 76754356 | K5: 84075998
A6: FPV per spese in conto capitale (*) | B6: 2.9327673e+08 | C6: 2.7265609e+08 | D6: 1.8170881e+08 | E6: 1.9722071e+08 | F6: 2.3802266e+08 | G6: 2.7235987e+08 | H6: 2.8110379e+08 | I6: 3.7371401e+08 | J6: 3.8465463e+08 | K6: 4.7341985e+08
A7: Risultato di amministrazione (A) | B7: =B2+B3-B4-B5-B6 -> 6.4560225e+08 | C7: =C2+C3-C4-C5-C6 -> 5.7414597e+08 | D7: =D2+D3-D4-D5-D6 -> 6.1595004e+08 | E7: =E2+E3-E4-E5-E6 -> 5.2961998e+08 | F7: =F2+F3-F4-F5-F6 -> 5.6453704e+08 | G7: =G2+G3-G4-G5-G6 -> 6.3803156e+08 | H7: =H2+H3-H4-H5-H6 -> 5.9463088e+08 | I7: =I2+I3-I4-I5-I6 -> 5.5461432e+08 | ... K7: =K2+K3-K4-K5-K6 -> 6.4386637e+08
A8: Fondo crediti di dubbia esigibilità | B8: 5760000 | C8: 23900000 | D8: 26567130 | E8: 32463765 | F8: 27550550 | G8: 30809548 | H8: 30700301 | I8: 33038139 | J8: 39165301 | K8: 45431818
A9: Fondo a copertura residui perenti | B9: 71439603 | C9: 58493931 | D9: 38461621 | E9: 31657373 | F9: 24843700 | G9: 20467999 | H9: 16819099 | I9: 14113921 | J9: 12511875 | K9: 11690607
A10: Fondo anticipazioni liquidità DL35/2013 | B10: 0 | C10: 0 | D10: 0 | E10: 0 | F10: 0 | G10: 0 | H10: 0 | I10: 0 | J10: 0 | K10: 0
A11: Fondo perdite società partecipate | B11: 0 | C11: 0 | D11: 2051500 | E11: 2683999.8 | F11: 3217597.6 | G11: 2321010.2 | H11: 2324073.9 | I11: 2014711.7 | J11: 2061837.8 | K11: 2061837.8
A12: Fondo contenzioso | B12: 0 | C12: 0 | D12: 3154207.4 | E12: 12886969 | F12: 13046969 | G12: 22069472 | H12: 21986472 | I12: 24986472 | J12: 26815421 | K12: 21160065
A13: Altri accantonamenti | B13: 22053408 | C13: 17496755 | D13: 18541287 | E13: 2657447 | F13: 16245107 | G13: 19816065 | H13: 6990795.5 | I13: 10089774 | J13: 14918448 | K13: 56527032
A14: Parte accantonata (B) | B14: =SUM(B8:B13) -> 99253011 | C14: =SUM(C8:C13) -> 99890686 | D14: =SUM(D8:D13) -> 88775745 | E14: =SUM(E8:E13) -> 82349555 | F14: =SUM(F8:F13) -> 84903925 | G14: =SUM(G8:G13) -> 95484095 | H14: =SUM(H8:H13) -> 78820742 | I14: =SUM(I8:I13) -> 84243019 | ... K14: =SUM(K8:K13) -> 1.3687136e+08
A15: Vincoli da leggi e principi contabili | B15: 3.7820052e+08 | C15: 0 | D15: 5000000 | E15: 17649685 | F15: 39260956 | G15: 37892363 | H15: 53509473 | I15: 44367100 | J15: 74424033 | K15: 61319057
A16: Vincoli da trasferimenti | B16: 0 | C16: 3.6579979e+08 | D16: 5.1468666e+08 | E16: 4.4943343e+08 | F16: 4.6616985e+08 | G16: 5.3930338e+08 | H16: 4.4569673e+08 | I16: 4.360042e+08 | J16: 4.1563506e+08 | K16: 3.8475355e+08
A17: Vincoli da contrazione di mutui | B17: 1.0770937e+08 | C17: 68245127 | D17: 0 | E17: 0 | F17: 0 | G17: 0 | H17: 0 | I17: 0 | J17: 0 | K17: 0
A18: Vincoli attribuiti dall'ente | B18: 88185606 | C18: 40210359 | D18: 54985127 | E18: 24474672 | F18: 15960801 | G18: 34474172 | H18: 72569290 | I18: 47198081 | J18: 98864933 | K18: 61366547
A19: Altri vincoli | B19: 0 | C19: 0 | D19: 0 | E19: 0 | F19: 0 | G19: 0 | H19: 0 | I19: 0 | J19: 0 | K19: 0
A20: Parte vincolata (C) | B20: =SUM(B15:B19) -> 5.740955e+08 | C20: =SUM(C15:C19) -> 4.7425528e+08 | D20: =SUM(D15:D19) -> 5.7467178e+08 | E20: =SUM(E15:E19) -> 4.9155778e+08 | F20: =SUM(F15:F19) -> 5.2139161e+08 | G20: =SUM(G15:G19) -> 6.1166991e+08 | H20: =SUM(H15:H19) -> 5.717755e+08 | I20: =SUM(I15:I19) -> 5.2756938e+08 | ... K20: =SUM(K15:K19) -> 5.0743915e+08
A21: Parte destinata a investimenti (D) | B21: 0 | C21: 0 | D21: 0 | E21: 0 | F21: 0 | G21: 0 | H21: 0 | I21: 0 | J21: 0 | K21: 0
